BEGIN:VCALENDAR
VERSION:2.0
PRODID:-//ChamberMaster//Event Calendar 2.0//EN
METHOD:PUBLISH
X-PUBLISHED-TTL:P3D
REFRESH-INTERVAL:P3D
CALSCALE:GREGORIAN
BEGIN:VEVENT
DTSTART:20200528T223000Z
DTEND:20200528T233000Z
X-MICROSOFT-CDO-ALLDAYEVENT:FALSE
SUMMARY:Virtual Happy Hour with Hunting Creek Vineyards and Molasses
DESCRIPTION:Join Sandy McPherson from Hunting Creek Vineyards and Steve Schopen with Molasses for a virtual wine tasting and cheese board pairing LIVE!\n\n\n\nTaste 4 different wines from Hunting Creek Vineyards while pairing with a cheese board from Molasses Grill including: cheese\, salami\, fruit\, and house made crackers.\n\nVisit http://www.hcvwines.com to preorder your tasting package by Tuesday\, May 26!
X-ALT-DESC;FMTTYPE=text/html:Join Sandy McPherson from Hunting Creek Vineyards and Steve Schopen with Molasses for a virtual wine tasting and cheese board pairing LIVE!<br />\n<br />\nTaste 4 different wines from Hunting Creek Vineyards while pairing with a cheese board from Molasses Grill including: cheese\, salami\, fruit\, and house made crackers.<br />\nVisit&nbsp\;<a href="http://www.hcvwines.com">http://www.hcvwines.com</a>&nbsp\;to preorder your tasting package by Tuesday\, May 26!
LOCATION:Via Zoom A link will be sent to you after you register.
UID:e.845.17612
SEQUENCE:3
DTSTAMP:20260422T091359Z
URL:https://business.halifaxchamber.net/events/details/virtual-happy-hour-with-hunting-creek-vineyards-and-molasses-17612
END:VEVENT

END:VCALENDAR
