BEGIN:VCALENDAR
VERSION:2.0
PRODID:-//ChamberMaster//Event Calendar 2.0//EN
METHOD:PUBLISH
X-PUBLISHED-TTL:P3D
REFRESH-INTERVAL:P3D
CALSCALE:GREGORIAN
BEGIN:VEVENT
DTSTART:20201027T170000Z
DTEND:20201027T220000Z
X-MICROSOFT-CDO-ALLDAYEVENT:FALSE
SUMMARY:Virtual Hiring Event
DESCRIPTION:Join the Virginia Employment Commission and the Virginia Career Works Centers for their virtual hiring event.
X-ALT-DESC;FMTTYPE=text/html:Join the Virginia Employment Commission and the Virginia Career Works Centers for their virtual hiring event.&nbsp\;
LOCATION:Register Now https://premiervirtual.com/event/register-jobseeker/2028-helping-virginia-back-work-south-central
UID:e.845.17787
SEQUENCE:3
DTSTAMP:20260420T012343Z
URL:https://business.halifaxchamber.net/events/details/virtual-hiring-event-17787
END:VEVENT

END:VCALENDAR
