BEGIN:VCALENDAR
VERSION:2.0
PRODID:-//ChamberMaster//Event Calendar 2.0//EN
METHOD:PUBLISH
X-PUBLISHED-TTL:P3D
REFRESH-INTERVAL:P3D
CALSCALE:GREGORIAN
BEGIN:VEVENT
DTSTART:20200601T120000Z
DTEND:20200601T210000Z
X-MICROSOFT-CDO-ALLDAYEVENT:FALSE
SUMMARY:Virtual Personal Care Aide Training Class
DESCRIPTION:Team Nurse\, a Care Advantage company\, is committed to teaching the skills necessary to deliver exceptional care to those who need it most. Gaining a PCA accreditation will open the door to a career which is rewarding on so many levels.\n\nIf you are looking for a career that makes a real difference to the lives of others each and every day\, while offering the flexibility to fit around your family and the opportunity to work with like minded\, caring people\, becoming a PCA could be the perfect role for you.\n\nIdeal candidates will have a servant heart and demonstrate a desire to serve with compassion. Must have reliable transportation\, have basic cooking and cleaning skills\, and a warm personality.\n\nSTART YOUR JOURNEY TO A CAREER IN CARE TODAY   Call 434.517.0050\, Space is limited!\n\nPLEASE NOTE: Candidates must be able to pass a criminal background check\, and drug screen. Upon graduation the PCA must work at least 300 hours with us to have the certificate released (that's about 10 weeks at 30 hours a week average). Participants must have access to internet and a computer/tablet with a camera to take the class.
X-ALT-DESC;FMTTYPE=text/html:<div class="kvgmc6g5 cxmmr5t8 oygrvhab hcukyx3x c1et5uql" style="overflow-wrap: break-word\; margin: 0px\; font-family: system-ui\, -apple-system\, system-ui\, &quot\;.SFNSText-Regular&quot\;\, sans-serif\; color: rgb(5\, 5\, 5)\; font-size: 15px\;">Team Nurse\, a Care Advantage company\, is committed to teaching the skills necessary to deliver exceptional care to those who need it most. Gaining a PCA accreditation will open the door to a career which is rewarding on so many levels.</div>\n\n<div class="o9v6fnle cxmmr5t8 oygrvhab hcukyx3x c1et5uql" style="overflow-wrap: break-word\; margin: 0.5em 0px 0px\; font-family: system-ui\, -apple-system\, system-ui\, &quot\;.SFNSText-Regular&quot\;\, sans-serif\; color: rgb(5\, 5\, 5)\; font-size: 15px\;">If you are looking for a career that makes a real difference to the lives of others each and every day\, while offering the flexibility to fit around your family and the opportunity to work with like minded\, caring people\, becoming a PCA could be the perfect role for you.<br />\nIdeal candidates will have a servant heart and demonstrate a desire to serve with compassion. Must have reliable transportation\, have basic cooking and cleaning skills\, and a warm personality.</div>\n\n<div class="o9v6fnle cxmmr5t8 oygrvhab hcukyx3x c1et5uql" style="overflow-wrap: break-word\; margin: 0.5em 0px 0px\; font-family: system-ui\, -apple-system\, system-ui\, &quot\;.SFNSText-Regular&quot\;\, sans-serif\; color: rgb(5\, 5\, 5)\; font-size: 15px\;">START YOUR JOURNEY TO A CAREER IN CARE TODAY &ndash\; Call 434.517.0050\, Space is limited!<br />\nPLEASE NOTE: Candidates must be able to pass a criminal background check\, and drug screen. Upon graduation the PCA must work at least 300 hours with us to have the certificate released (that&rsquo\;s about 10 weeks at 30 hours a week average). Participants must have access to internet and a computer/tablet with a camera to take the class.</div>\n
LOCATION:
UID:e.845.17665
SEQUENCE:3
DTSTAMP:20260420T082041Z
URL:https://business.halifaxchamber.net/events/details/virtual-personal-care-aide-training-class-17665
END:VEVENT

END:VCALENDAR
