BEGIN:VCALENDAR
VERSION:2.0
PRODID:-//ChamberMaster//Event Calendar 2.0//EN
METHOD:PUBLISH
X-PUBLISHED-TTL:P3D
REFRESH-INTERVAL:P3D
CALSCALE:GREGORIAN
BEGIN:VEVENT
DTSTART:20210107T170000Z
DTEND:20210107T183000Z
X-MICROSOFT-CDO-ALLDAYEVENT:FALSE
SUMMARY:Virtual Pre-Legislative Briefing
DESCRIPTION:Business and community leaders have the opportunity to hear from our state legislative delegation and state leaders about their perspectives on issues and key legislation prior to the 2021 General Assembly session.
X-ALT-DESC;FMTTYPE=text/html:Business and community leaders have the opportunity to hear from our state legislative delegation and state leaders about their perspectives on issues and key legislation prior to the 2021 General Assembly session.
LOCATION:This event will be offered virtually through Zoom. A Zoom account is not required to participate and participants will receive a link to join prior to the meeting.
UID:e.845.17817
SEQUENCE:3
DTSTAMP:20260419T201801Z
URL:https://business.halifaxchamber.net/events/details/virtual-pre-legislative-briefing-17817
END:VEVENT

END:VCALENDAR
