BEGIN:VCALENDAR
VERSION:2.0
PRODID:-//ChamberMaster//Event Calendar 2.0//EN
METHOD:PUBLISH
X-PUBLISHED-TTL:P3D
REFRESH-INTERVAL:P3D
CALSCALE:GREGORIAN
BEGIN:VEVENT
DTSTART;VALUE=DATE:20200926
DTEND;VALUE=DATE:20200927
TRANSP:TRANSPARENT
X-MICROSOFT-CDO-ALLDAYEVENT:TRUE
SUMMARY:Virtual Walk to End Alzheimer's
DESCRIPTION:Different Walk\, Same Reasons\n\nThe world may look a little different right now\, but one thing hasn't changed: our commitment to ending Alzheimer's. This year\, Walk to End Alzheimer's  is everywhere   on every sidewalk\, track and trail.\n\n \n\nYour health and safety are our top priorities. We won't have a large in-person gathering   instead\, we invite you to walk in small teams of friends and family while others in your community do the same. Because we are all still walking and fundraising for the same thing: a world without Alzheimer's and all other dementia.\n\n\n\nSign up here: https://act.alz.org/site/TR/Walk2020/VA-SoutheasternVirginia?pg=entry&fr_id=13705
X-ALT-DESC;FMTTYPE=text/html:<strong>Different Walk\, Same Reasons</strong><br />\nThe world may look a little different right now\, but one thing hasn&rsquo\;t changed: our commitment to ending Alzheimer&rsquo\;s. This year\, Walk to End Alzheimer&rsquo\;s&reg\; is everywhere &mdash\; on every sidewalk\, track and trail.<br />\n&nbsp\;<br />\nYour health and safety are our top priorities. We won&rsquo\;t have a large in-person gathering &mdash\; instead\, we invite you to walk in small teams of friends and family while others in your community do the same. Because we are all still walking and fundraising for the same thing: a world without Alzheimer&rsquo\;s and all other dementia.<br />\n<br />\nSign up here:&nbsp\;<a href="https://act.alz.org/site/TR/Walk2020/VA-SoutheasternVirginia?pg=entry&amp\;fr_id=13705" style="color: rgb(149\, 79\, 114)\; font-family: Calibri\, sans-serif\; font-size: 15px\;">https://act.alz.org/site/TR/Walk2020/VA-SoutheasternVirginia?pg=entry&amp\;fr_id=13705</a>
LOCATION:Virtual
UID:e.845.17749
SEQUENCE:3
DTSTAMP:20260420T031817Z
URL:https://business.halifaxchamber.net/events/details/virtual-walk-to-end-alzheimer-s-17749
END:VEVENT

END:VCALENDAR
