BEGIN:VCALENDAR
VERSION:2.0
PRODID:-//ChamberMaster//Event Calendar 2.0//EN
METHOD:PUBLISH
X-PUBLISHED-TTL:P3D
REFRESH-INTERVAL:P3D
CALSCALE:GREGORIAN
BEGIN:VEVENT
DTSTART:20200528T170000Z
DTEND:20200528T173000Z
X-MICROSOFT-CDO-ALLDAYEVENT:FALSE
SUMMARY:Virtual Welding Informational Session
DESCRIPTION:Learn more about the Welding@SVHEC program during our FIRST Live virtual info session!\n\n-Get to know program leader Geoff Vaughan\n\n-Get and overview of the Welding@SVHEC program\n\n-Hear why welding is a great career option.\n\nYou'll be able to submit questions in advance or ask them live.\n\nTo attend the info session via Zoom\, please send your name\, phone number\, and email address to info@svhec.org to receive the Zoom access information. You may also message this information to our Facebook page.
X-ALT-DESC;FMTTYPE=text/html:<div>Learn more about the Welding@SVHEC program during our FIRST Live virtual info session!<br />\n-Get to know program leader Geoff Vaughan<br />\n-Get and overview of the Welding@SVHEC program<br />\n-Hear why welding is a great career option.</div>\n\n<div>You&#39\;ll be able to submit questions in advance or ask them live.<br />\nTo attend the info session via Zoom\, please send your name\, phone number\, and email address to info@svhec.org to receive the Zoom access information. You may also message this information to our Facebook page.</div>\n
LOCATION:Via Zoom and Livestreamed on Facebook
UID:e.845.17663
SEQUENCE:3
DTSTAMP:20260420T095903Z
URL:https://business.halifaxchamber.net/events/details/virtual-welding-informational-session-17663
END:VEVENT

END:VCALENDAR
