BEGIN:VCALENDAR
VERSION:2.0
PRODID:-//ChamberMaster//Event Calendar 2.0//EN
METHOD:PUBLISH
X-PUBLISHED-TTL:P3D
REFRESH-INTERVAL:P3D
CALSCALE:GREGORIAN
BEGIN:VEVENT
DTSTART:20210506T230000Z
DTEND:20210507T000000Z
X-MICROSOFT-CDO-ALLDAYEVENT:FALSE
SUMMARY:Virtual Yoga
DESCRIPTION:Join us for an hour of healing and mindfulness with Kelly Colgate. Leave feeling better able to face life's challenges through yoga that helps boost mental resilience with physical relaxation and mindfulness.
X-ALT-DESC;FMTTYPE=text/html:<span style="color: rgb(128\, 128\, 128)\; font-family: &quot\;Open Sans&quot\;\, sans-serif\; font-size: 16px\;">Join us for an hour of healing and mindfulness with Kelly Colgate. Leave feeling better able to face life&rsquo\;s challenges through yoga that helps boost mental resilience with physical relaxation and mindfulness.&nbsp\;</span>
LOCATION:Register at https://southsidebh.org/mhm/
UID:e.845.17971
SEQUENCE:3
DTSTAMP:20260419T141515Z
URL:https://business.halifaxchamber.net/events/details/virtual-yoga-17971
END:VEVENT

END:VCALENDAR
