BEGIN:VCALENDAR
VERSION:2.0
PRODID:-//ChamberMaster//Event Calendar 2.0//EN
METHOD:PUBLISH
X-PUBLISHED-TTL:P3D
REFRESH-INTERVAL:P3D
CALSCALE:GREGORIAN
BEGIN:VEVENT
DTSTART:20191223T200000Z
DTEND:20191223T220000Z
X-MICROSOFT-CDO-ALLDAYEVENT:FALSE
SUMMARY:Visit Santa at URW!
DESCRIPTION:Santa Claus will be visiting URW South Boston!
X-ALT-DESC;FMTTYPE=text/html:Santa Claus will be visiting URW South Boston!
LOCATION:URW 4018 Halifax Road South Boston\, VA 24592
UID:e.845.15624
SEQUENCE:3
DTSTAMP:20260420T182812Z
URL:https://business.halifaxchamber.net/events/details/visit-santa-at-urw-15624
END:VEVENT

END:VCALENDAR
