BEGIN:VCALENDAR
VERSION:2.0
PRODID:-//ChamberMaster//Event Calendar 2.0//EN
METHOD:PUBLISH
X-PUBLISHED-TTL:P3D
REFRESH-INTERVAL:P3D
CALSCALE:GREGORIAN
BEGIN:VEVENT
DTSTART:20170830T110000Z
DTEND:20170830T120000Z
X-MICROSOFT-CDO-ALLDAYEVENT:FALSE
SUMMARY:Wake-Up Wednesday
DESCRIPTION:Get your Wednesday morning going with a cup of joe from Joe and a Bow and conversation with other young professionals and entrepreneurs in Halifax County! This casual networking event will be held at the location in downtown South Boston. It begins at 7\, but feel free to come and leave at a time that fits your schedule!
X-ALT-DESC;FMTTYPE=text/html:<span style="color: rgb(75\, 79\, 86)\; font-family: &quot\;SF Optimized&quot\;\, system-ui\, -apple-system\, system-ui\, &quot\;.SFNSText-Regular&quot\;\, sans-serif\; font-size: 14px\; letter-spacing: -0.12px\;">Get your Wednesday morning going with a cup of joe from&nbsp\;</span><a data-hovercard="/ajax/hovercard/page.php?id=2013510375543829&amp\;extragetparams=%7B%22directed_target_id%22%3A141531576447498%7D" data-hovercard-prefer-more-content-show="1" href="https://www.facebook.com/JoeandaBow/" style="color: rgb(54\, 88\, 153)\; cursor: pointer\; text-decoration-line: none\; font-family: &quot\;SF Optimized&quot\;\, system-ui\, -apple-system\, system-ui\, &quot\;.SFNSText-Regular&quot\;\, sans-serif\; font-size: 14px\; letter-spacing: -0.12px\;">Joe and a </a><a data-hovercard="/ajax/hovercard/page.php?id=2013510375543829&amp\;extragetparams=%7B%22directed_target_id%22%3A141531576447498%7D" data-hovercard-prefer-more-content-show="1" href="https://www.facebook.com/JoeandaBow/" style="color: rgb(54\, 88\, 153)\; cursor: pointer\; text-decoration-line: none\; font-family: &quot\;SF Optimized&quot\;\, system-ui\, -apple-system\, system-ui\, &quot\;.SFNSText-Regular&quot\;\, sans-serif\; font-size: 14px\; letter-spacing: -0.12px\;">Bow</a>&nbsp\;<span style="color: rgb(75\, 79\, 86)\; font-family: &quot\;SF Optimized&quot\;\, system-ui\, -apple-system\, system-ui\, &quot\;.SFNSText-Regular&quot\;\, sans-serif\; font-size: 14px\; letter-spacing: -0.12px\;">and</span><span style="color: rgb(75\, 79\, 86)\; font-family: &quot\;SF Optimized&quot\;\, system-ui\, -apple-system\, system-ui\, &quot\;.SFNSText-Regular&quot\;\, sans-serif\; font-size: 14px\; letter-spacing: -0.12px\;"> conversation with other young professionals and entrepreneurs in Halifax County! This casual networking event will be held at the location in downtown South Boston. It begins at 7\, but feel free to come and leave at a time that fits your schedule!</span>
LOCATION:Joe and a Bow 530 Wilborn Ave. South Boston\, VA
UID:e.845.7073
SEQUENCE:3
DTSTAMP:20260422T175305Z
URL:https://business.halifaxchamber.net/events/details/wake-up-wednesday-7073
END:VEVENT

END:VCALENDAR
