BEGIN:VCALENDAR
VERSION:2.0
PRODID:-//ChamberMaster//Event Calendar 2.0//EN
METHOD:PUBLISH
X-PUBLISHED-TTL:P3D
REFRESH-INTERVAL:P3D
CALSCALE:GREGORIAN
BEGIN:VEVENT
DTSTART:20171129T123000Z
DTEND:20171129T133000Z
X-MICROSOFT-CDO-ALLDAYEVENT:FALSE
SUMMARY:Wake-Up Wednesday
DESCRIPTION:Get your Wednesday morning going with a cup of joe from Joe and a Bow and conversation with other young professionals and entrepreneurs in Halifax County! This casual networking event will be held at the location in downtown South Boston. It begins at 7:30\, but feel free to come and leave at a time that fits your schedule!
X-ALT-DESC;FMTTYPE=text/html:<span style="color: rgb(75\, 79\, 86)\; font-family: &quot\;SF Optimized&quot\;\, system-ui\, -apple-system\, system-ui\, &quot\;.SFNSText-Regular&quot\;\, sans-serif\; font-size: 14px\; letter-spacing: -0.12px\;">Get your Wednesday morning going with a cup of joe from Joe and a Bow</span>&nbsp\;<span style="color: rgb(75\, 79\, 86)\; font-family: &quot\;SF Optimized&quot\;\, system-ui\, -apple-system\, system-ui\, &quot\;.SFNSText-Regular&quot\;\, sans-serif\; font-size: 14px\; letter-spacing: -0.12px\;">and</span><span style="color: rgb(75\, 79\, 86)\; font-family: &quot\;SF Optimized&quot\;\, system-ui\, -apple-system\, system-ui\, &quot\;.SFNSText-Regular&quot\;\, sans-serif\; font-size: 14px\; letter-spacing: -0.12px\;"> conversation with other young professionals and entrepreneurs in Halifax County! This casual networking event will be held at the location in downtown South Boston. It begins at 7:30\, but feel free to come and leave at a time that fits your schedule!</span>
LOCATION:Joe and a Bow Halifax 11 S. Main Street Halifax\, VA
UID:e.845.7173
SEQUENCE:3
DTSTAMP:20260422T120735Z
URL:https://business.halifaxchamber.net/events/details/wake-up-wednesday-7173
END:VEVENT

END:VCALENDAR
