BEGIN:VCALENDAR
VERSION:2.0
PRODID:-//ChamberMaster//Event Calendar 2.0//EN
METHOD:PUBLISH
X-PUBLISHED-TTL:P3D
REFRESH-INTERVAL:P3D
CALSCALE:GREGORIAN
BEGIN:VEVENT
DTSTART:20171003T203000Z
DTEND:20171003T233000Z
X-MICROSOFT-CDO-ALLDAYEVENT:FALSE
SUMMARY:Walk to End Alzheimer's
DESCRIPTION:Come out and walk with Sentara Woodview\, for their Annual Walk to End Alzheimer's on Tuesday\, October 3rd. Registration at 4:30 p.m. and the walk begins at 5:00 p.m. For more information please contact Melissa\, Team Captain\, at 434-517-7532.
X-ALT-DESC;FMTTYPE=text/html:<span style="color: rgb(75\, 79\, 86)\; font-family: &quot\;SF Optimized&quot\;\, system-ui\, -apple-system\, system-ui\, &quot\;.SFNSText-Regular&quot\;\, sans-serif\; font-size: 14px\; letter-spacing: -0.12px\;">Come out and walk with Sentara Woodview\, for their Annual Walk to End Alzheimer&#39\;s on Tuesday\, October 3rd. Registration at 4:30 p.m. and the walk begins at 5:00 p.m. For more information please contact Melissa\, Team Captain\, at 434-517-7532.</span>
LOCATION:The Woodview 103 Rosehill Drive South Boston\, VA
UID:e.845.7116
SEQUENCE:3
DTSTAMP:20260422T135715Z
URL:https://business.halifaxchamber.net/events/details/walk-to-end-alzheimer-s-7116
END:VEVENT

END:VCALENDAR
