BEGIN:VCALENDAR
VERSION:2.0
PRODID:-//ChamberMaster//Event Calendar 2.0//EN
METHOD:PUBLISH
X-PUBLISHED-TTL:P3D
REFRESH-INTERVAL:P3D
CALSCALE:GREGORIAN
BEGIN:VEVENT
DTSTART:20191005T123000Z
DTEND:20191005T160000Z
X-MICROSOFT-CDO-ALLDAYEVENT:FALSE
SUMMARY:Walk to End Alzheimer's at Sentara Woodview
DESCRIPTION:Come out and walk with Sentara Woodview for their Annual Walk to End Alzheimer's on Saturday\, October 5th. Registration begins at 8:30 a.m. and the walk begins at 10:00 a.m. For more information please contact Melissa Powell at 434-755-7141.
X-ALT-DESC;FMTTYPE=text/html:<span style="color: rgb(29\, 33\, 41)\; font-family: system-ui\, -apple-system\, system-ui\, &quot\;.SFNSText-Regular&quot\;\, sans-serif\; font-size: 14px\; white-space: pre-wrap\;">Come out and walk with Sentara Woodview for their Annual Walk to End Alzheimer&#39\;s on Saturday\, October 5th. Registration begins at 8:30 a.m. and the walk begins at 10:00 a.m. For more information please contact Melissa Powell at 434-755-7141.</span>
LOCATION:Sentara Woodview 103 Rosehill Drive South Boston\, VA
UID:e.845.13303
SEQUENCE:3
DTSTAMP:20260420T221032Z
URL:https://business.halifaxchamber.net/events/details/walk-to-end-alzheimer-s-at-sentara-woodview-13303
END:VEVENT

END:VCALENDAR
