BEGIN:VCALENDAR
VERSION:2.0
PRODID:-//ChamberMaster//Event Calendar 2.0//EN
METHOD:PUBLISH
X-PUBLISHED-TTL:P3D
REFRESH-INTERVAL:P3D
CALSCALE:GREGORIAN
BEGIN:VEVENT
DTSTART:20190119T020000Z
DTEND:20190119T045500Z
X-MICROSOFT-CDO-ALLDAYEVENT:FALSE
SUMMARY:Walter Howard & Jakob Markham at World of Sports
DESCRIPTION:Walter Howard and Jakob Markham at the World of Sports Friday\, Janauary 18th from 9pm - 12am
X-ALT-DESC;FMTTYPE=text/html:Walter Howard and Jakob Markham at the World of Sports Friday\, Janauary 18th from 9pm - 12am&nbsp\;
LOCATION:World of Sports 2030 Bill Tuck Highway South Boston\, VA 24592
UID:e.845.11679
SEQUENCE:3
DTSTAMP:20260421T140644Z
URL:https://business.halifaxchamber.net/events/details/walter-howard-jakob-markham-at-world-of-sports-11679
END:VEVENT

END:VCALENDAR
