BEGIN:VCALENDAR
VERSION:2.0
PRODID:-//ChamberMaster//Event Calendar 2.0//EN
METHOD:PUBLISH
X-PUBLISHED-TTL:P3D
REFRESH-INTERVAL:P3D
CALSCALE:GREGORIAN
BEGIN:VEVENT
DTSTART:20200104T020000Z
DTEND:20200104T045500Z
X-MICROSOFT-CDO-ALLDAYEVENT:FALSE
SUMMARY:Walter Howard Live
DESCRIPTION:Spend the first Friday of 2020 with Walter Howard! Performing live at the World of Sports Friday\, January 3rd from 9pm - midnight.
X-ALT-DESC;FMTTYPE=text/html:Spend the first Friday of 2020 with Walter Howard! Performing live at the World of Sports Friday\, January 3rd from 9pm - midnight.
LOCATION:World of Sports 2030 Bill Tuck Highway South Boston\, VA 24592
UID:e.845.15625
SEQUENCE:3
DTSTAMP:20260420T165314Z
URL:https://business.halifaxchamber.net/events/details/walter-howard-live-01-03-2020-15625
END:VEVENT

END:VCALENDAR
