BEGIN:VCALENDAR
VERSION:2.0
PRODID:-//ChamberMaster//Event Calendar 2.0//EN
METHOD:PUBLISH
X-PUBLISHED-TTL:P3D
REFRESH-INTERVAL:P3D
CALSCALE:GREGORIAN
BEGIN:VEVENT
DTSTART:20191207T153000Z
DTEND:20191207T163000Z
X-MICROSOFT-CDO-ALLDAYEVENT:FALSE
SUMMARY:Water Yoga with Patsy
DESCRIPTION:Enjoy water yoga with Patsy.\n\nPlease register 15 minutes before class.
X-ALT-DESC;FMTTYPE=text/html:Enjoy water yoga with Patsy.<br />\nPlease register 15 minutes before class.
LOCATION:Berry Hill Resort 3105 River Road South Boston\, VA 24592
UID:e.845.15579
SEQUENCE:3
DTSTAMP:20260420T181026Z
URL:https://business.halifaxchamber.net/events/details/water-yoga-with-patsy-15579
END:VEVENT

END:VCALENDAR
