BEGIN:VCALENDAR
VERSION:2.0
PRODID:-//ChamberMaster//Event Calendar 2.0//EN
METHOD:PUBLISH
X-PUBLISHED-TTL:P3D
REFRESH-INTERVAL:P3D
CALSCALE:GREGORIAN
BEGIN:VEVENT
DTSTART:20190507T210000Z
DTEND:20190508T010000Z
X-MICROSOFT-CDO-ALLDAYEVENT:FALSE
SUMMARY:At - Home Welding
DESCRIPTION:Would you like to be able to complete welding projects at home or on the farm?\n\nThe 6-week\, At Home Welder Workshop will give you the skills you need. Learn the basics of STICK\, MIG\, and TIG welding\, Cutting with Plasma and Oxy-fuel. Each session includes ample opportunity for hands-on practice. Work on the class project or bring a personal project from home.
X-ALT-DESC;FMTTYPE=text/html:Would you like to be able to complete welding projects at home or on the farm?<br />\nThe 6-week\, At Home Welder Workshop will give you the skills you need. Learn the basics of STICK\, MIG\, and TIG welding\, Cutting with Plasma and Oxy-fuel. Each session includes ample opportunity for hands-on practice. Work on the class project or bring a personal project from home.
LOCATION:Southern Virginia Higher Education Center
UID:e.845.11662
SEQUENCE:3
DTSTAMP:20260421T062404Z
URL:https://business.halifaxchamber.net/events/details/welding-05-07-2019-11662
END:VEVENT

END:VCALENDAR
