BEGIN:VCALENDAR
VERSION:2.0
PRODID:-//ChamberMaster//Event Calendar 2.0//EN
METHOD:PUBLISH
X-PUBLISHED-TTL:P3D
REFRESH-INTERVAL:P3D
CALSCALE:GREGORIAN
BEGIN:VEVENT
DTSTART:20190811T000000Z
DTEND:20190811T035000Z
X-MICROSOFT-CDO-ALLDAYEVENT:FALSE
SUMMARY:Western Super Moonlight Bowling Bash with DJ B-Ham
DESCRIPTION:We are turning the lights down\, music up and doubling the prize fund from the Dude Upstairs on August 10th for the WesternSuper Moonlight Bowling Bash featuring DJ B-Ham\n\nDress us in your favorite Western attire\, come bowling with your friends and family and win prizes!
X-ALT-DESC;FMTTYPE=text/html:<p style="text-align:center"><span style="font-size:20px"><span style="color:rgb(0\, 0\, 255)">We are turning the lights down\, music up and doubling the prize fund from the Dude Upstairs on August 10th for the WesternSuper Moonlight Bowling Bash featuring DJ B-Ham</span></span></p>\n\n<p style="text-align:center"><span style="color:rgb(0\, 0\, 255)"><span style="font-size:20px">Dress us in your favorite Western attire\, come bowling with your friends and family and win prizes!</span></span></p>\n
LOCATION:World of Sports 2030 Bill Tuck Highway South Boston\, VA 24592
UID:e.845.13262
SEQUENCE:3
DTSTAMP:20260421T012034Z
URL:https://business.halifaxchamber.net/events/details/western-super-moonlight-bowling-bash-with-dj-b-ham-13262
END:VEVENT

END:VCALENDAR
