BEGIN:VCALENDAR
VERSION:2.0
PRODID:-//ChamberMaster//Event Calendar 2.0//EN
METHOD:PUBLISH
X-PUBLISHED-TTL:P3D
REFRESH-INTERVAL:P3D
CALSCALE:GREGORIAN
BEGIN:VEVENT
DTSTART:20190809T220000Z
DTEND:20190810T020000Z
X-MICROSOFT-CDO-ALLDAYEVENT:FALSE
SUMMARY:Whiskey Jam at Springfield Distillery
DESCRIPTION:Open Mic/Open Jame for the first time at Springfield Distillery. \n\nLive entertainment and good times! Musicians bring your instruments!
X-ALT-DESC;FMTTYPE=text/html:Open Mic/Open Jame for the first time at Springfield Distillery.&nbsp\;<br />\nLive entertainment and good times! Musicians bring your instruments!
LOCATION:9040 River Road Halifax VA 24558
UID:e.845.13259
SEQUENCE:3
DTSTAMP:20260421T025443Z
URL:https://business.halifaxchamber.net/events/details/whiskey-jam-at-springfield-distillery-13259
END:VEVENT

END:VCALENDAR
