BEGIN:VCALENDAR
VERSION:2.0
PRODID:-//ChamberMaster//Event Calendar 2.0//EN
METHOD:PUBLISH
X-PUBLISHED-TTL:P3D
REFRESH-INTERVAL:P3D
CALSCALE:GREGORIAN
BEGIN:VEVENT
DTSTART:20170827T210000Z
DTEND:20170827T230000Z
X-MICROSOFT-CDO-ALLDAYEVENT:FALSE
SUMMARY:Whiskey & Wildflowers
DESCRIPTION:Join your friends for a relaxing summer evening of flowers and handcrafted cocktails! You'll learn how to make your own summer centerpiece with bright\, colorful blooms to take home with you!
X-ALT-DESC;FMTTYPE=text/html:<div class="_4-u2 _3xaf _3-95 _4-u8" style="border-width: 1px 0px\; border-style: solid\; border-color: transparent\; border-top-left-radius: 3px\; border-top-right-radius: 3px\; border-bottom-right-radius: 3px\; border-bottom-left-radius: 3px\; margin-bottom: 8px\; position: relative\; font-family: 'San Francisco'\, -apple-system\, system-ui\, '.SFNSText-Regular'\, sans-serif\; color: rgb(29\, 33\, 41)\; font-size: 12px\; font-variant-ligatures: normal\; letter-spacing: -0.24px\; orphans: 2\; widows: 2\;">\n<div class="_2qgs" style="color: rgb(75\, 79\, 86)\; padding: 12px\; position: relative\; border-top: none\; font-family: inherit\;"><span class="_4n-j _3cht fsl" data-testid="event-permalink-details" style="font-size: 14px\; font-family: inherit\;">Join your friends&nbsp\;for a relaxing summer evening of flowers and handcrafted cocktails! You&#39\;ll learn how to make your own summer centerpiece with bright\, colorful blooms to take home with you!</span></div>\n</div>\n\n<div class="_4-u2 _3xaf _3-95 _4-u8" style="border-width: 1px 0px\; border-style: solid\; border-color: transparent\; border-top-left-radius: 3px\; border-top-right-radius: 3px\; border-bottom-right-radius: 3px\; border-bottom-left-radius: 3px\; margin-bottom: 8px\; position: relative\; font-family: 'San Francisco'\, -apple-system\, system-ui\, '.SFNSText-Regular'\, sans-serif\; color: rgb(29\, 33\, 41)\; font-size: 12px\; font-variant-ligatures: normal\; letter-spacing: -0.24px\; orphans: 2\; widows: 2\;">&nbsp\;</div>\n
LOCATION:Springfield Distillery 9040 River Road Halifax\, VA
UID:e.845.5958
SEQUENCE:3
DTSTAMP:20260422T175421Z
URL:https://business.halifaxchamber.net/events/details/whiskey-wildflowers-5958
END:VEVENT

END:VCALENDAR
