BEGIN:VCALENDAR
VERSION:2.0
PRODID:-//ChamberMaster//Event Calendar 2.0//EN
METHOD:PUBLISH
X-PUBLISHED-TTL:P3D
REFRESH-INTERVAL:P3D
CALSCALE:GREGORIAN
BEGIN:VEVENT
DTSTART:20181028T190000Z
DTEND:20181028T203000Z
X-MICROSOFT-CDO-ALLDAYEVENT:FALSE
SUMMARY:Whiskey & Wildflowers at Springfield Distillery
DESCRIPTION:Join us on October 28th at 3:00pm at Springfield Distillery for a fun afternoon of craft whiskey cocktails while creating your very own Halloween-inspired arrangement! I'll demo how to make a garden-style hand-tied arrangement using unique fall florals in shades of black and purple\, and then you'll get to experiment and make your own! \n\n\n\nWhiskey sold separately.
X-ALT-DESC;FMTTYPE=text/html:<span style="caret-color: rgb(29\, 33\, 41)\; color: rgb(29\, 33\, 41)\; font-family: system-ui\, -apple-system\, BlinkMacSystemFont\, &quot\;.SFNSText-Regular&quot\;\, sans-serif\; font-size: 14px\; background-color: rgb(255\, 255\, 255)\;">Join us on October 28th at 3:00pm at Springfield Distillery for a fun afternoon of craft whiskey cocktails while creating your very own Halloween-inspired arrangement! I&rsquo\;ll demo how to make a garden-style hand-tied arrangement using unique fall florals in shades of black and purple\, and then you&rsquo\;ll get to experiment and make your own!&nbsp\;</span><br style="caret-color: rgb(29\, 33\, 41)\; color: rgb(29\, 33\, 41)\; font-family: system-ui\, -apple-system\, BlinkMacSystemFont\, &quot\;.SFNSText-Regular&quot\;\, sans-serif\; font-size: 14px\;" />\n<br style="caret-color: rgb(29\, 33\, 41)\; color: rgb(29\, 33\, 41)\; font-family: system-ui\, -apple-system\, BlinkMacSystemFont\, &quot\;.SFNSText-Regular&quot\;\, sans-serif\; font-size: 14px\;" />\n<span style="caret-color: rgb(29\, 33\, 41)\; color: rgb(29\, 33\, 41)\; font-family: system-ui\, -apple-system\, BlinkMacSystemFont\, &quot\;.SFNSText-Regular&quot\;\, sans-serif\; font-size: 14px\; background-color: rgb(255\, 255\, 255)\;">Whiskey sold separately.</span>
LOCATION:Springfield Distillery Halifax\, VA
UID:e.845.8535
SEQUENCE:3
DTSTAMP:20260421T185210Z
URL:https://business.halifaxchamber.net/events/details/whiskey-wildflowers-at-springfield-distillery-8535
END:VEVENT

END:VCALENDAR
