BEGIN:VCALENDAR
VERSION:2.0
PRODID:-//ChamberMaster//Event Calendar 2.0//EN
METHOD:PUBLISH
X-PUBLISHED-TTL:P3D
REFRESH-INTERVAL:P3D
CALSCALE:GREGORIAN
BEGIN:VEVENT
DTSTART;VALUE=DATE:20150919
DTEND;VALUE=DATE:20150920
TRANSP:TRANSPARENT
X-MICROSOFT-CDO-ALLDAYEVENT:TRUE
SUMMARY:Wild Blue River Festival
DESCRIPTION:8:00 am - 12 pm\n\nFestival at King's Bridge Landing\n\n\n	\n	26' Rock Climbing Wall\n	\n	\n	Gyotaku Fish Printing\n	\n	\n	Gyotaku T-Shirt Making\n	\n	\n	Children's Activities\n\n	\n		\n		Build a boat\n		\n		\n		Chalk Board Fun\n		\n		\n		Practice Casting\n		\n		\n		Corn Hole\n		\n	\n	\n\n\n \n\n9:00 am Kayak Race\n\n \n\n9:30 am Canoe Race\n\n \n\n10:00 am-12:00 pm Banister River Float
X-ALT-DESC;FMTTYPE=text/html:<p class="font_8" style="background: none\; font: 13px/normal &quot\;Open Sans&quot\;\, sans-serif\; margin: 0px\; padding: 0px\; outline: 0px\; border: 0px currentColor\; color: rgb(42\, 29\, 36)\; text-transform: none\; text-indent: 0px\; letter-spacing: normal\; word-spacing: 0px\; vertical-align: baseline\; white-space: normal\; widows: 1\; font-size-adjust: none\; font-stretch: normal\; -webkit-text-stroke-width: 0px\;"><span style="background: none\; margin: 0px\; padding: 0px\; outline: 0px\; border: 0px currentColor\; font-weight: bold\; vertical-align: baseline\;">8:00 am - 12 pm</span></p>\n\n<h5 class="font_5" style="background: none\; font: 25px/normal &quot\;open sans condensed&quot\;\, sans-serif\; margin: 0px\; padding: 0px\; outline: 0px\; border: 0px currentColor\; color: rgb(104\, 175\, 179)\; text-transform: none\; text-indent: 0px\; letter-spacing: normal\; word-spacing: 0px\; vertical-align: baseline\; white-space: normal\; widows: 1\; font-size-adjust: none\; font-stretch: normal\; -webkit-text-stroke-width: 0px\;"><span style="font-size: 14px\;"><span style="color: rgb(0\, 0\, 0)\;">Festival at King&#39\;s Bridge Landing</span></span></h5>\n\n<ul class="font_8" style="background: none\; font: 13px/normal &quot\;Open Sans&quot\;\, sans-serif\; margin: 0px 0px 0px 0.5em\; padding: 0px 0px 0px 1.3em\; outline: 0px\; border: 0px currentColor\; color: rgb(42\, 29\, 36)\; text-transform: none\; text-indent: 0px\; letter-spacing: normal\; word-spacing: 0px\; vertical-align: baseline\; white-space: normal\; widows: 1\; font-size-adjust: none\; font-stretch: normal\; -webkit-text-stroke-width: 0px\;">\n	<li style="background: none\; margin: 0px\; padding: 0px\; outline: 0px\; border: 0px currentColor\; color: inherit\; line-height: inherit\; letter-spacing: normal\; font-family: inherit\; font-size: inherit\; font-style: inherit\; font-weight: inherit\; vertical-align: baseline\;">\n	<p class="font_8" style="background: none\; font: 13px/normal &quot\;Open Sans&quot\;\, sans-serif\; margin: 0px\; padding: 0px\; outline: 0px\; border: 0px currentColor\; color: rgb(42\, 29\, 36)\; letter-spacing: normal\; vertical-align: baseline\; font-size-adjust: none\; font-stretch: normal\;">26&#39\; Rock Climbing Wall</p>\n	</li>\n	<li style="background: none\; margin: 0px\; padding: 0px\; outline: 0px\; border: 0px currentColor\; color: inherit\; line-height: inherit\; letter-spacing: normal\; font-family: inherit\; font-size: inherit\; font-style: inherit\; font-weight: inherit\; vertical-align: baseline\;">\n	<p class="font_8" style="background: none\; font: 13px/normal &quot\;Open Sans&quot\;\, sans-serif\; margin: 0px\; padding: 0px\; outline: 0px\; border: 0px currentColor\; color: rgb(42\, 29\, 36)\; letter-spacing: normal\; vertical-align: baseline\; font-size-adjust: none\; font-stretch: normal\;">Gyotaku Fish Printing</p>\n	</li>\n	<li style="background: none\; margin: 0px\; padding: 0px\; outline: 0px\; border: 0px currentColor\; color: inherit\; line-height: inherit\; letter-spacing: normal\; font-family: inherit\; font-size: inherit\; font-style: inherit\; font-weight: inherit\; vertical-align: baseline\;">\n	<p class="font_8" style="background: none\; font: 13px/normal &quot\;Open Sans&quot\;\, sans-serif\; margin: 0px\; padding: 0px\; outline: 0px\; border: 0px currentColor\; color: rgb(42\, 29\, 36)\; letter-spacing: normal\; vertical-align: baseline\; font-size-adjust: none\; font-stretch: normal\;">Gyotaku T-Shirt Making</p>\n	</li>\n	<li style="background: none\; margin: 0px\; padding: 0px\; outline: 0px\; border: 0px currentColor\; color: inherit\; line-height: inherit\; letter-spacing: normal\; font-family: inherit\; font-size: inherit\; font-style: inherit\; font-weight: inherit\; vertical-align: baseline\;">\n	<p class="font_8" style="background: none\; font: 13px/normal &quot\;Open Sans&quot\;\, sans-serif\; margin: 0px\; padding: 0px\; outline: 0px\; border: 0px currentColor\; color: rgb(42\, 29\, 36)\; letter-spacing: normal\; vertical-align: baseline\; font-size-adjust: none\; font-stretch: normal\;">Children&#39\;s Activities</p>\n\n	<ul class="font_8" style="background: none\; font: 13px/normal &quot\;Open Sans&quot\;\, sans-serif\; list-style: circle\; margin: 0px 0px 0px 0.5em\; padding: 0px 0px 0px 1.3em\; outline: 0px\; border: 0px currentColor\; color: rgb(42\, 29\, 36)\; letter-spacing: normal\; vertical-align: baseline\; font-size-adjust: none\; font-stretch: normal\;">\n		<li style="background: none\; margin: 0px\; padding: 0px\; outline: 0px\; border: 0px currentColor\; color: inherit\; line-height: inherit\; letter-spacing: normal\; font-family: inherit\; font-size: inherit\; font-style: inherit\; font-weight: inherit\; vertical-align: baseline\;">\n		<p class="font_8" style="background: none\; font: 13px/normal &quot\;Open Sans&quot\;\, sans-serif\; margin: 0px\; padding: 0px\; outline: 0px\; border: 0px currentColor\; color: rgb(42\, 29\, 36)\; letter-spacing: normal\; vertical-align: baseline\; font-size-adjust: none\; font-stretch: normal\;">Build a boat</p>\n		</li>\n		<li style="background: none\; margin: 0px\; padding: 0px\; outline: 0px\; border: 0px currentColor\; color: inherit\; line-height: inherit\; letter-spacing: normal\; font-family: inherit\; font-size: inherit\; font-style: inherit\; font-weight: inherit\; vertical-align: baseline\;">\n		<p class="font_8" style="background: none\; font: 13px/normal &quot\;Open Sans&quot\;\, sans-serif\; margin: 0px\; padding: 0px\; outline: 0px\; border: 0px currentColor\; color: rgb(42\, 29\, 36)\; letter-spacing: normal\; vertical-align: baseline\; font-size-adjust: none\; font-stretch: normal\;">Chalk Board Fun</p>\n		</li>\n		<li style="background: none\; margin: 0px\; padding: 0px\; outline: 0px\; border: 0px currentColor\; color: inherit\; line-height: inherit\; letter-spacing: normal\; font-family: inherit\; font-size: inherit\; font-style: inherit\; font-weight: inherit\; vertical-align: baseline\;">\n		<p class="font_8" style="background: none\; font: 13px/normal &quot\;Open Sans&quot\;\, sans-serif\; margin: 0px\; padding: 0px\; outline: 0px\; border: 0px currentColor\; color: rgb(42\, 29\, 36)\; letter-spacing: normal\; vertical-align: baseline\; font-size-adjust: none\; font-stretch: normal\;">Practice Casting</p>\n		</li>\n		<li style="background: none\; margin: 0px\; padding: 0px\; outline: 0px\; border: 0px currentColor\; color: inherit\; line-height: inherit\; letter-spacing: normal\; font-family: inherit\; font-size: inherit\; font-style: inherit\; font-weight: inherit\; vertical-align: baseline\;">\n		<p class="font_8" style="background: none\; font: 13px/normal &quot\;Open Sans&quot\;\, sans-serif\; margin: 0px\; padding: 0px\; outline: 0px\; border: 0px currentColor\; color: rgb(42\, 29\, 36)\; letter-spacing: normal\; vertical-align: baseline\; font-size-adjust: none\; font-stretch: normal\;">Corn Hole</p>\n		</li>\n	</ul>\n	</li>\n</ul>\n\n<p class="font_8" style="background: none\; font: 13px/normal &quot\;Open Sans&quot\;\, sans-serif\; margin: 0px\; padding: 0px\; outline: 0px\; border: 0px currentColor\; color: rgb(42\, 29\, 36)\; text-transform: none\; text-indent: 0px\; letter-spacing: normal\; word-spacing: 0px\; vertical-align: baseline\; white-space: normal\; widows: 1\; font-size-adjust: none\; font-stretch: normal\; -webkit-text-stroke-width: 0px\;">&nbsp\;</p>\n\n<p class="font_8" style="background: none\; font: 13px/normal &quot\;Open Sans&quot\;\, sans-serif\; margin: 0px\; padding: 0px\; outline: 0px\; border: 0px currentColor\; color: rgb(42\, 29\, 36)\; text-transform: none\; text-indent: 0px\; letter-spacing: normal\; word-spacing: 0px\; vertical-align: baseline\; white-space: normal\; widows: 1\; font-size-adjust: none\; font-stretch: normal\; -webkit-text-stroke-width: 0px\;"><span style="background: none\; margin: 0px\; padding: 0px\; outline: 0px\; border: 0px currentColor\; font-weight: bold\; vertical-align: baseline\;">9:00 am</span> Kayak Race</p>\n\n<p class="font_8" style="background: none\; font: 13px/normal &quot\;Open Sans&quot\;\, sans-serif\; margin: 0px\; padding: 0px\; outline: 0px\; border: 0px currentColor\; color: rgb(42\, 29\, 36)\; text-transform: none\; text-indent: 0px\; letter-spacing: normal\; word-spacing: 0px\; vertical-align: baseline\; white-space: normal\; widows: 1\; font-size-adjust: none\; font-stretch: normal\; -webkit-text-stroke-width: 0px\;">&nbsp\;</p>\n\n<p class="font_8" style="background: none\; font: 13px/normal &quot\;Open Sans&quot\;\, sans-serif\; margin: 0px\; padding: 0px\; outline: 0px\; border: 0px currentColor\; color: rgb(42\, 29\, 36)\; text-transform: none\; text-indent: 0px\; letter-spacing: normal\; word-spacing: 0px\; vertical-align: baseline\; white-space: normal\; widows: 1\; font-size-adjust: none\; font-stretch: normal\; -webkit-text-stroke-width: 0px\;"><strong style="background: none\; margin: 0px\; padding: 0px\; outline: 0px\; border: 0px currentColor\; vertical-align: baseline\;">9:30&nbsp\;am</strong> Canoe Race</p>\n\n<p class="font_8" style="background: none\; font: 13px/normal &quot\;Open Sans&quot\;\, sans-serif\; margin: 0px\; padding: 0px\; outline: 0px\; border: 0px currentColor\; color: rgb(42\, 29\, 36)\; text-transform: none\; text-indent: 0px\; letter-spacing: normal\; word-spacing: 0px\; vertical-align: baseline\; white-space: normal\; widows: 1\; font-size-adjust: none\; font-stretch: normal\; -webkit-text-stroke-width: 0px\;">&nbsp\;</p>\n\n<p class="font_8" style="background: none\; font: 13px/normal &quot\;Open Sans&quot\;\, sans-serif\; margin: 0px\; padding: 0px\; outline: 0px\; border: 0px currentColor\; color: rgb(42\, 29\, 36)\; text-transform: none\; text-indent: 0px\; letter-spacing: normal\; word-spacing: 0px\; vertical-align: baseline\; white-space: normal\; widows: 1\; font-size-adjust: none\; font-stretch: normal\; -webkit-text-stroke-width: 0px\;"><span style="background: none\; margin: 0px\; padding: 0px\; outline: 0px\; border: 0px currentColor\; font-weight: bold\; vertical-align: baseline\;">10:00 am-12:00 pm</span>&nbsp\;Banister River Float</p>\n
LOCATION:
UID:e.845.3536
SEQUENCE:3
DTSTAMP:20260425T193042Z
URL:https://business.halifaxchamber.net/events/details/wild-blue-river-festival-09-19-2015-3536
END:VEVENT

END:VCALENDAR
