BEGIN:VCALENDAR
VERSION:2.0
PRODID:-//ChamberMaster//Event Calendar 2.0//EN
METHOD:PUBLISH
X-PUBLISHED-TTL:P3D
REFRESH-INTERVAL:P3D
CALSCALE:GREGORIAN
BEGIN:VEVENT
DTSTART:20170923T130000Z
DTEND:20170923T180000Z
X-MICROSOFT-CDO-ALLDAYEVENT:FALSE
SUMMARY:Wild Blue River Festival
DESCRIPTION:Details to come at Halifax-Events.
X-ALT-DESC;FMTTYPE=text/html:<h5>Details to come at <a href="https://www.halifax-events.com">Halifax-Events</a>.</h5>\n
LOCATION:Kings Bridge Landing Halifax\, VA
UID:e.845.5846
SEQUENCE:3
DTSTAMP:20260422T160139Z
URL:https://business.halifaxchamber.net/events/details/wild-blue-river-festival-09-23-2017-5846
END:VEVENT

END:VCALENDAR
