BEGIN:VCALENDAR
VERSION:2.0
PRODID:-//ChamberMaster//Event Calendar 2.0//EN
METHOD:PUBLISH
X-PUBLISHED-TTL:P3D
REFRESH-INTERVAL:P3D
CALSCALE:GREGORIAN
BEGIN:VEVENT
DTSTART:20160917T130000Z
DTEND:20160917T170000Z
X-MICROSOFT-CDO-ALLDAYEVENT:FALSE
SUMMARY:Wild Blue River Festival
DESCRIPTION:Wild Blue River Festival\n\nRock climbing wall\n\nBouncy pirate ship\n\nCraft activities\n\nVendor/information tables
X-ALT-DESC;FMTTYPE=text/html:Wild Blue River Festival<br />\nRock climbing wall<br />\nBouncy pirate ship<br />\nCraft activities<br />\nVendor/information tables<br />\n&nbsp\;
LOCATION:Kings Bridge Landing 1041 Bethel Road Halifax\, VA
UID:e.845.5714
SEQUENCE:3
DTSTAMP:20260424T225312Z
URL:https://business.halifaxchamber.net/events/details/wild-blue-river-festival-5714
END:VEVENT

END:VCALENDAR
