BEGIN:VCALENDAR
VERSION:2.0
PRODID:-//ChamberMaster//Event Calendar 2.0//EN
METHOD:PUBLISH
X-PUBLISHED-TTL:P3D
REFRESH-INTERVAL:P3D
CALSCALE:GREGORIAN
BEGIN:VEVENT
DTSTART:20190405T230000Z
DTEND:20190406T020000Z
X-MICROSOFT-CDO-ALLDAYEVENT:FALSE
SUMMARY:Wine Dinner with Hunting Creek Vineyards
DESCRIPTION:A five course meal with wine pairing from Hunting Creek Vineyards\, only thirty seats available. Tickets are $80/person\, including tax and gratuity and must be purchased in advance. Call (434)352-7532 for reservations! This will be our only wine dinner this year!\n\n\n\nMenu\n\nPate Grandmere - pork terrine\, dijon mustard\, apple butter\, pickles\, toasted baguette\; served with HC Indulgence\n\nRoasted Beetroot Salad - roquette\, spiced walnuts\, chevre cheese\, fried capers\, lemon dijon vinaigrette\; served with HC Temptation\n\nBouillabaisse - fennel\, shrimp\, shitefish\, mussels\, tomato broth\, grilled baguette with sauce rouille\; served with HC Pure Luck\n\nBoeuf Bourguignon - stewed beef\, carrots\, onions & mushrooms\, tagliatelli pasta\; served with HC Decadence\n\nProfiterole - cream puff\, chocolate sauce\, strawberry coulis\; served with HC Repentance
X-ALT-DESC;FMTTYPE=text/html:<span style="color:rgb(29\, 33\, 41)\; font-family:system-ui\,-apple-system\,system-ui\,.sfnstext-regular\,sans-serif\; font-size:14px">A five course meal with wine pairing from Hunting Creek Vineyards\, only thirty seats available. Tickets are $80/person\, including tax and gratuity and must be purchased in advance. Call (434)352-7532 for reservations! This will be our only wine dinner this year!</span><br />\n<br />\n<span style="color:rgb(29\, 33\, 41)\; font-family:system-ui\,-apple-system\,system-ui\,.sfnstext-regular\,sans-serif\; font-size:14px">Menu</span><br />\n<span style="color:rgb(29\, 33\, 41)\; font-family:system-ui\,-apple-system\,system-ui\,.sfnstext-regular\,sans-serif\; font-size:14px">Pate Grandmere - pork terrine\, dijon mustard\, apple butter\, pickles\, toasted baguette\; served with HC Indulgence</span><br />\n<span style="color:rgb(29\, 33\, 41)\; font-family:system-ui\,-apple-system\,system-ui\,.sfnstext-regular\,sans-serif\; font-size:14px">Roasted Beetroot Salad - roquette\, spiced walnuts\, chevre cheese\, fried capers\, lemon dijon vinaigrette\; served with HC Temptation</span><br />\n<span style="color:rgb(29\, 33\, 41)\; font-family:system-ui\,-apple-system\,system-ui\,.sfnstext-regular\,sans-serif\; font-size:14px">Bouillabaisse - fennel\, shrimp\, shitefish\, mussels\, tomato broth\, grilled baguette with sauce rouille\; served with HC Pure Luck</span><br />\n<span style="color:rgb(29\, 33\, 41)\; font-family:system-ui\,-apple-system\,system-ui\,.sfnstext-regular\,sans-serif\; font-size:14px">Boeuf Bourguignon - stewed beef\, carrots\, onions &amp\; mushrooms\, tagliatelli pasta\; served with HC Decadence</span><br />\n<span style="color:rgb(29\, 33\, 41)\; font-family:system-ui\,-apple-system\,system-ui\,.sfnstext-regular\,sans-serif\; font-size:14px">Profiterole - cream puff\, chocolate sauce\, strawberry coulis\; served with HC Repentance</span>
LOCATION:The Babcock House 250 Oakleigh Ave Appomattox\, Virginia 24522
UID:e.845.11703
SEQUENCE:3
DTSTAMP:20260421T075927Z
URL:https://business.halifaxchamber.net/events/details/wine-dinner-with-hunting-creek-vineyards-11703
END:VEVENT

END:VCALENDAR
