BEGIN:VCALENDAR
VERSION:2.0
PRODID:-//ChamberMaster//Event Calendar 2.0//EN
METHOD:PUBLISH
X-PUBLISHED-TTL:P3D
REFRESH-INTERVAL:P3D
CALSCALE:GREGORIAN
BEGIN:VEVENT
DTSTART:20200217T000000Z
DTEND:20200217T020000Z
X-MICROSOFT-CDO-ALLDAYEVENT:FALSE
SUMMARY:Winter Scratch Bowling Club
DESCRIPTION:Come out to World of Sports Sunday nights from February 16th to March 22nd.\n\n\n\n$30 per week per couple. Includes 2 games of Easy Strike Bowling\, 16 oz Springfield Distillery Scratch Cocktail or 16 oz Craft Beer and shoes per person. \n\n\n\n1st and 2nd place winner will receive Springfield Distillery Memorabilia and World of Sports Gift Cards. \n\n\n\nCan't make it every Sunday? No big deal   just come when you can!
X-ALT-DESC;FMTTYPE=text/html:<span style="color: rgb(29\, 33\, 41)\; font-family: system-ui\, -apple-system\, system-ui\, &quot\;.SFNSText-Regular&quot\;\, sans-serif\; font-size: 14px\; white-space: pre-wrap\;">Come out to World of Sports Sunday nights from February 16th to March 22nd.<br />\n<br />\n$30 per week per couple. Includes 2 games of Easy Strike Bowling\, 16 oz Springfield Distillery Scratch Cocktail or 16 oz Craft Beer and shoes per person. </span><br />\n<br style="color: rgb(29\, 33\, 41)\; font-family: system-ui\, -apple-system\, system-ui\, &quot\;.SFNSText-Regular&quot\;\, sans-serif\; font-size: 14px\; white-space: pre-wrap\;" />\n<span style="color: rgb(29\, 33\, 41)\; font-family: system-ui\, -apple-system\, system-ui\, &quot\;.SFNSText-Regular&quot\;\, sans-serif\; font-size: 14px\; white-space: pre-wrap\;">1st and 2nd place winner will receive Springfield Distillery Memorabilia and World of Sports Gift Cards. </span><br style="color: rgb(29\, 33\, 41)\; font-family: system-ui\, -apple-system\, system-ui\, &quot\;.SFNSText-Regular&quot\;\, sans-serif\; font-size: 14px\; white-space: pre-wrap\;" />\n<br style="color: rgb(29\, 33\, 41)\; font-family: system-ui\, -apple-system\, system-ui\, &quot\;.SFNSText-Regular&quot\;\, sans-serif\; font-size: 14px\; white-space: pre-wrap\;" />\n<span style="color: rgb(29\, 33\, 41)\; font-family: system-ui\, -apple-system\, system-ui\, &quot\;.SFNSText-Regular&quot\;\, sans-serif\; font-size: 14px\; white-space: pre-wrap\;">Can&rsquo\;t make it every Sunday? No big deal &ndash\; just come when you can! </span>
LOCATION:World of Sports 2030 Bill Tuck Hwy South Boston\, Virginia 24592
UID:e.845.17471
SEQUENCE:3
DTSTAMP:20260420T151555Z
URL:https://business.halifaxchamber.net/events/details/winter-scratch-bowling-club-17471
END:VEVENT

END:VCALENDAR
