BEGIN:VCALENDAR
VERSION:2.0
PRODID:-//ChamberMaster//Event Calendar 2.0//EN
METHOD:PUBLISH
X-PUBLISHED-TTL:P3D
REFRESH-INTERVAL:P3D
CALSCALE:GREGORIAN
BEGIN:VEVENT
DTSTART:20201107T150000Z
DTEND:20201107T200000Z
X-MICROSOFT-CDO-ALLDAYEVENT:FALSE
SUMMARY:Winter Wonderland at Wister's
DESCRIPTION:Kick off the holiday season at Wister's for their Winter Wonderland Holiday Open House.
X-ALT-DESC;FMTTYPE=text/html:Kick off the holiday season at Wister&#39\;s for their Winter Wonderland Holiday Open House.
LOCATION:Wister's 441 Main St South Boston\, VA 24592
UID:e.845.17807
SEQUENCE:3
DTSTAMP:20260420T012801Z
URL:https://business.halifaxchamber.net/events/details/winter-wonderland-at-wister-s-17807
END:VEVENT

END:VCALENDAR
