BEGIN:VCALENDAR
VERSION:2.0
PRODID:-//ChamberMaster//Event Calendar 2.0//EN
METHOD:PUBLISH
X-PUBLISHED-TTL:P3D
REFRESH-INTERVAL:P3D
CALSCALE:GREGORIAN
BEGIN:VEVENT
DTSTART:20201211T230000Z
DTEND:20201211T230000Z
X-MICROSOFT-CDO-ALLDAYEVENT:FALSE
SUMMARY:Winter Wonderland Floral Workshop
DESCRIPTION:Grab your friends and join us for a fun\, festive evening creating your very own floral arrangement! I will teach you step-by-step how to make your own\, and then you'll dive right in\, with my guidance along the way! In order to keep everyone safe and healthy\, and promote social distancing\, space is VERY limited and masks will be required. Tickets can be purchased through the link on this page or by calling/coming by the shop!\n\nwww.amandadayrose.com/shop/2020/8/27/ma0ydhwznpneomqig7dt6xye6runpk
X-ALT-DESC;FMTTYPE=text/html:<p style="margin-top: 0px\; color: rgb(92\, 92\, 96)\; font-family: livory\; font-size: 17px\;"><span style="color: rgb(5\, 5\, 5)\; font-family: system-ui\, -apple-system\, system-ui\, &quot\;.SFNSText-Regular&quot\;\, sans-serif\; font-size: 15px\;">Grab your friends and join us for a fun\, festive evening creating your very own floral arrangement! I will teach you step-by-step how to make your own\, and then you&rsquo\;ll dive right in\, with my guidance along the way! In order to keep everyone safe and healthy\, and promote social distancing\, space is VERY limited and masks will be required. Tickets can be purchased through the link on this page or by calling/coming by the shop!</span></p>\n\n<p style="color: rgb(92\, 92\, 96)\; font-family: livory\; font-size: 17px\;"><a href="http://www.amandadayrose.com/shop/2020/8/27/ma0ydhwznpneomqig7dt6xye6runpk"><span style="color: rgb(101\, 103\, 107)\; font-family: system-ui\, -apple-system\, system-ui\, &quot\;.SFNSText-Regular&quot\;\, sans-serif\;">www.amandadayrose.com/shop/2020/8/27/ma0ydhwznpneomqig7dt6xye6runpk</span></a></p>\n
LOCATION:Wister's 441 Main St South Boston\, VA
UID:e.845.17775
SEQUENCE:3
DTSTAMP:20260419T220616Z
URL:https://business.halifaxchamber.net/events/details/winter-wonderland-floral-workshop-17775
END:VEVENT

END:VCALENDAR
