BEGIN:VCALENDAR
VERSION:2.0
PRODID:-//ChamberMaster//Event Calendar 2.0//EN
METHOD:PUBLISH
X-PUBLISHED-TTL:P3D
REFRESH-INTERVAL:P3D
CALSCALE:GREGORIAN
BEGIN:VEVENT
DTSTART:20200125T150000Z
DTEND:20200125T190000Z
X-MICROSOFT-CDO-ALLDAYEVENT:FALSE
SUMMARY:Wister's Grand Opening Day 2
DESCRIPTION:Join Wister's for their grand opening day 2!
X-ALT-DESC;FMTTYPE=text/html:Join Wister&#39\;s for their grand opening day 2!
LOCATION:Wister's 441 Main Street South Boston\, VA 24592
UID:e.845.15620
SEQUENCE:3
DTSTAMP:20260420T165438Z
URL:https://business.halifaxchamber.net/events/details/wister-s-grand-opening-day-2-15620
END:VEVENT

END:VCALENDAR
