BEGIN:VCALENDAR
VERSION:2.0
PRODID:-//ChamberMaster//Event Calendar 2.0//EN
METHOD:PUBLISH
X-PUBLISHED-TTL:P3D
REFRESH-INTERVAL:P3D
CALSCALE:GREGORIAN
BEGIN:VEVENT
DTSTART:20200124T150000Z
DTEND:20200124T230000Z
X-MICROSOFT-CDO-ALLDAYEVENT:FALSE
SUMMARY:Wister's Grand Opening & Ribbon Cutting
DESCRIPTION:Join Wister's for their ribbon cutting & 2 day grand opening!\n\nEnjoy some fun surprises\, unique handpicked items\, a loaded flower bar\, and one of a kind flower arrangements.
X-ALT-DESC;FMTTYPE=text/html:Join Wister&#39\;s for their ribbon cutting &amp\; 2 day grand opening!<br />\nEnjoy some fun surprises\, unique handpicked items\, a loaded flower bar\, and one of a kind flower arrangements.
LOCATION:Wister's 441 Main Street South Boston\, VA 24592
UID:e.845.15619
SEQUENCE:3
DTSTAMP:20260420T165607Z
URL:https://business.halifaxchamber.net/events/details/wister-s-grand-opening-ribbon-cutting-15619
END:VEVENT

END:VCALENDAR
