BEGIN:VCALENDAR
VERSION:2.0
PRODID:-//ChamberMaster//Event Calendar 2.0//EN
METHOD:PUBLISH
X-PUBLISHED-TTL:P3D
REFRESH-INTERVAL:P3D
CALSCALE:GREGORIAN
BEGIN:VEVENT
DTSTART:20210122T000000Z
DTEND:20210122T000000Z
X-MICROSOFT-CDO-ALLDAYEVENT:FALSE
SUMMARY:Wister's Virtual Plant Sale
DESCRIPTION:Join Wister's for their Virtual Plant Sale
X-ALT-DESC;FMTTYPE=text/html:Join Wister&#39\;s for their Virtual Plant Sale
LOCATION:Via Facebook at https://www.facebook.com/wistersva/
UID:e.845.17832
SEQUENCE:3
DTSTAMP:20260419T220855Z
URL:https://business.halifaxchamber.net/events/details/wister-s-virtual-plant-sale-17832
END:VEVENT

END:VCALENDAR
