BEGIN:VCALENDAR
VERSION:2.0
PRODID:-//ChamberMaster//Event Calendar 2.0//EN
METHOD:PUBLISH
X-PUBLISHED-TTL:P3D
REFRESH-INTERVAL:P3D
CALSCALE:GREGORIAN
BEGIN:VEVENT
DTSTART:20161022T230000Z
DTEND:20161023T010000Z
X-MICROSOFT-CDO-ALLDAYEVENT:FALSE
SUMMARY:Womanless Beauty Pageant
DESCRIPTION:
X-ALT-DESC;FMTTYPE=text/html:
LOCATION:Halifax County High School
UID:e.845.4586
SEQUENCE:3
DTSTAMP:20260424T211626Z
URL:https://business.halifaxchamber.net/events/details/womanless-beauty-pageant-10-22-2016-4586
END:VEVENT

END:VCALENDAR
