BEGIN:VCALENDAR
VERSION:2.0
PRODID:-//ChamberMaster//Event Calendar 2.0//EN
METHOD:PUBLISH
X-PUBLISHED-TTL:P3D
REFRESH-INTERVAL:P3D
CALSCALE:GREGORIAN
BEGIN:VEVENT
DTSTART:20210225T230000Z
DTEND:20210226T010000Z
X-MICROSOFT-CDO-ALLDAYEVENT:FALSE
SUMMARY:Women's Self-Defense Seminar
DESCRIPTION:Women's Self Defense Class
X-ALT-DESC;FMTTYPE=text/html:Women&#39\;s Self Defense Class
LOCATION:Adam's Total Fitness
UID:e.845.17879
SEQUENCE:3
DTSTAMP:20260419T183441Z
URL:https://business.halifaxchamber.net/events/details/women-s-self-defense-seminar-17879
END:VEVENT

END:VCALENDAR
