BEGIN:VCALENDAR
VERSION:2.0
PRODID:-//ChamberMaster//Event Calendar 2.0//EN
METHOD:PUBLISH
X-PUBLISHED-TTL:P3D
REFRESH-INTERVAL:P3D
CALSCALE:GREGORIAN
BEGIN:VEVENT
DTSTART:20150516T150000Z
DTEND:20150516T210000Z
X-MICROSOFT-CDO-ALLDAYEVENT:FALSE
SUMMARY:Womens' Wellness Fair and Fitness Party
DESCRIPTION:The WOMEN'S WELLNESS FAIR AND FITNESS PARTY will offer free health screenings\, demonstrations\, educational workshops\, and entertainment\, while encouraging women's longevity and good stewardship over our health. At 3 p.m.\, we'll conclude our day with a two-hour TROPICAL ZUMBA(R) FITNESS PARTY with Ronda Bryant\, PhD\, fitness instructor extraordinaire!
X-ALT-DESC;FMTTYPE=text/html:The WOMEN&#39\;S WELLNESS FAIR AND FITNESS PARTY will offer free health screenings\, demonstrations\, educational workshops\, and entertainment\, while encouraging women&#39\;s longevity and good stewardship over our health. At 3 p.m.\, we&#39\;ll conclude our day with a two-hour TROPICAL ZUMBA(R) FITNESS PARTY with Ronda Bryant\, PhD\, fitness instructor extraordinaire!
LOCATION:Halifax County Middle School in South Boston\,Va
UID:e.845.2494
SEQUENCE:3
DTSTAMP:20260426T020253Z
URL:https://business.halifaxchamber.net/events/details/womens-wellness-fair-and-fitness-party-05-16-2015-2494
END:VEVENT

END:VCALENDAR
