BEGIN:VCALENDAR
VERSION:2.0
PRODID:-//ChamberMaster//Event Calendar 2.0//EN
METHOD:PUBLISH
X-PUBLISHED-TTL:P3D
REFRESH-INTERVAL:P3D
CALSCALE:GREGORIAN
BEGIN:VEVENT
DTSTART;VALUE=DATE:20150509
DTEND;VALUE=DATE:20150510
TRANSP:TRANSPARENT
X-MICROSOFT-CDO-ALLDAYEVENT:TRUE
SUMMARY:Wood-Fired Pizza Making Class\, Hudson Heritage Farms Studio
DESCRIPTION:Hudson Heritage Farms            \n\nWood-Fired Pizza Making Class\n\n \n\nWhen: Saturday\, May 9\, 2015\,  11:00-1:00\n\n \n\nWhere: The Farm Studio at Hudson Heritage Farms\n\n             14242 River Road\n\n             South Boston\, VA\n\n             753-9327\n\n             hudsonheritage@aol.com\n\n \n\nCost:     $30* \n\n \n\nHow to register: Call or email the farm to get on the list. Then send us your check to confirm your space.  Class sizes are limited. \n\n \n\nCome to Hudson Heritage Farms and learn how to make your own pizza dough and how to cook in a wood-fired oven.  If you don't have your own wood-fired oven we will also cover how to cook pizza on your grill or in your home oven.
X-ALT-DESC;FMTTYPE=text/html:<span style="font-size:26pt"><span style="font-family:mongolian baiti">Hudson Heritage Farms&nbsp\;&nbsp\;&nbsp\;&nbsp\;&nbsp\;&nbsp\;&nbsp\;&nbsp\;&nbsp\;&nbsp\;&nbsp\; </span></span><br />\n<span style="font-size:26pt"><span style="font-family:mongolian baiti">Wood-Fired Pizza Making Class</span></span><br />\n&nbsp\;<br />\n<span style="font-size:14pt"><span style="font-family:mongolian baiti">When: Saturday\, May 9\, 2015\, &nbsp\;11:00-1:00</span></span><br />\n&nbsp\;<br />\n<span style="font-size:14pt"><span style="font-family:mongolian baiti">Where: The Farm Studio at Hudson Heritage Farms</span></span><br />\n<span style="font-size:14pt"><span style="font-family:mongolian baiti">&nbsp\;&nbsp\;&nbsp\;&nbsp\;&nbsp\;&nbsp\;&nbsp\;&nbsp\;&nbsp\;&nbsp\;&nbsp\;&nbsp\; 14242 River Road</span></span><br />\n<span style="font-size:14pt"><span style="font-family:mongolian baiti">&nbsp\;&nbsp\;&nbsp\;&nbsp\;&nbsp\;&nbsp\;&nbsp\;&nbsp\;&nbsp\; &nbsp\;&nbsp\; South Boston\, VA</span></span><br />\n<span style="font-size:14pt"><span style="font-family:mongolian baiti">&nbsp\;&nbsp\;&nbsp\;&nbsp\;&nbsp\;&nbsp\;&nbsp\;&nbsp\;&nbsp\;&nbsp\;&nbsp\;&nbsp\; 753-9327</span></span><br />\n<span style="font-size:14pt"><span style="font-family:mongolian baiti">&nbsp\;&nbsp\;&nbsp\;&nbsp\;&nbsp\;&nbsp\;&nbsp\;&nbsp\;&nbsp\; &nbsp\;&nbsp\; </span></span><a href="mailto:hudsonheritage@aol.com"><span style="font-size:14pt"><span style="font-family:mongolian baiti"><span style="color:rgb(0\, 0\, 255)">hudsonheritage@aol.com</span></span></span></a><br />\n&nbsp\;<br />\n<span style="font-size:14pt"><span style="font-family:mongolian baiti">Cost:&nbsp\;&nbsp\;&nbsp\;&nbsp\; $30* </span></span><br />\n&nbsp\;<br />\n<span style="font-size:14pt"><span style="font-family:mongolian baiti">How to register: Call or email the farm to get on the list. Then send us your check to confirm your space.&nbsp\; Class sizes are limited. </span></span><br />\n&nbsp\;<br />\n<span style="font-size:14pt"><span style="font-family:mongolian baiti">Come to Hudson Heritage Farms and learn how to make your own pizza dough and how to cook in a wood-fired oven.&nbsp\; If you don&rsquo\;t have your own wood-fired oven we will also cover how to cook pizza on your grill or in your home oven. </span></span><br />\n&nbsp\;<br />\n&nbsp\;
LOCATION:Hudson Heritage Farms
UID:e.845.2484
SEQUENCE:3
DTSTAMP:20260426T020120Z
URL:https://business.halifaxchamber.net/events/details/wood-fired-pizza-making-class-hudson-heritage-farms-studio-05-09-2015-2484
END:VEVENT

END:VCALENDAR
