BEGIN:VCALENDAR
VERSION:2.0
PRODID:-//ChamberMaster//Event Calendar 2.0//EN
METHOD:PUBLISH
X-PUBLISHED-TTL:P3D
REFRESH-INTERVAL:P3D
CALSCALE:GREGORIAN
BEGIN:VEVENT
DTSTART:20200924T130000Z
DTEND:20200924T150000Z
X-MICROSOFT-CDO-ALLDAYEVENT:FALSE
SUMMARY:Workforce Development and Government Contracting Basics
DESCRIPTION:Special Introduction by Community Leader\n\n \n\nPresenters\n\n \n\nMichelle Rogers\, Director of Workforce Development serving Virginia's Gateway Region and Community College Workforce Alliance\n\n \n\nJoanne Tompkins\, Crater PTAC Program Director\n\n \n\n \n\nWorkforce Development topics will include:\n\n \n\n\n	Importance of Workforce Development within a region or community (education\, training and recruitment)\n	Explanation of this new role: Director of Workforce Development\, serving Virginia's Gateway Region and the Community College Workforce Alliance\n	Importance of Industry and Business knowledge and intel\n	Q&A/Creative solutions discussion\n\n\n \n\nLearn about government contracting basics:\n\n \n\n\n	Registering in eVA\n	Swam certification\n	Microbusiness certification\n	Sam registration
X-ALT-DESC;FMTTYPE=text/html:<div align="center" style="caret-color: rgb(37\, 78\, 112)\; color: rgb(37\, 78\, 112)\; font-family: &quot\;Century Gothic&quot\;\, Calibri\, Helvetica\, Arial\, sans-serif\; font-size: 14px\; text-size-adjust: auto\; text-align: center\;"><span style="font-family: &quot\;Lucida Sans Unicode&quot\;\, &quot\;Lucida Grande&quot\;\, sans-serif\; font-weight: bold\; color: rgb(13\, 43\, 107)\;">Special Introduction by Community Leader</span></div>\n\n<div align="center" style="caret-color: rgb(37\, 78\, 112)\; color: rgb(37\, 78\, 112)\; font-family: &quot\;Century Gothic&quot\;\, Calibri\, Helvetica\, Arial\, sans-serif\; font-size: 14px\; text-size-adjust: auto\; text-align: center\;">&nbsp\;</div>\n\n<div align="center" style="caret-color: rgb(37\, 78\, 112)\; color: rgb(37\, 78\, 112)\; font-family: &quot\;Century Gothic&quot\;\, Calibri\, Helvetica\, Arial\, sans-serif\; font-size: 14px\; text-size-adjust: auto\; text-align: center\;"><span style="font-family: &quot\;Lucida Sans Unicode&quot\;\, &quot\;Lucida Grande&quot\;\, sans-serif\;">Presenters</span></div>\n\n<div align="center" style="caret-color: rgb(37\, 78\, 112)\; color: rgb(37\, 78\, 112)\; font-family: &quot\;Century Gothic&quot\;\, Calibri\, Helvetica\, Arial\, sans-serif\; font-size: 14px\; text-size-adjust: auto\; text-align: center\;">&nbsp\;</div>\n\n<div align="center" style="caret-color: rgb(37\, 78\, 112)\; color: rgb(37\, 78\, 112)\; font-family: &quot\;Century Gothic&quot\;\, Calibri\, Helvetica\, Arial\, sans-serif\; font-size: 14px\; text-size-adjust: auto\; text-align: center\;"><span style="color: rgb(13\, 43\, 107)\; font-weight: bold\; font-family: &quot\;Lucida Sans Unicode&quot\;\, &quot\;Lucida Grande&quot\;\, sans-serif\;">Michelle Rogers\, Director of Workforce Development serving Virginia&#39\;s Gateway Region and Community College Workforce Alliance</span></div>\n\n<div align="center" style="caret-color: rgb(37\, 78\, 112)\; color: rgb(37\, 78\, 112)\; font-family: &quot\;Century Gothic&quot\;\, Calibri\, Helvetica\, Arial\, sans-serif\; font-size: 14px\; text-size-adjust: auto\; text-align: center\;">&nbsp\;</div>\n\n<div align="center" style="caret-color: rgb(37\, 78\, 112)\; color: rgb(37\, 78\, 112)\; font-family: &quot\;Century Gothic&quot\;\, Calibri\, Helvetica\, Arial\, sans-serif\; font-size: 14px\; text-size-adjust: auto\; text-align: center\;"><span style="color: rgb(13\, 43\, 107)\; font-weight: bold\; font-family: &quot\;Lucida Sans Unicode&quot\;\, &quot\;Lucida Grande&quot\;\, sans-serif\;">Joanne Tompkins\, Crater PTAC Program Director</span></div>\n\n<div align="center" style="caret-color: rgb(37\, 78\, 112)\; color: rgb(37\, 78\, 112)\; font-family: &quot\;Century Gothic&quot\;\, Calibri\, Helvetica\, Arial\, sans-serif\; font-size: 14px\; text-size-adjust: auto\; text-align: center\;">&nbsp\;</div>\n\n<div style="caret-color: rgb(37\, 78\, 112)\; color: rgb(37\, 78\, 112)\; font-family: &quot\;Century Gothic&quot\;\, Calibri\, Helvetica\, Arial\, sans-serif\; font-size: 14px\; text-size-adjust: auto\;">&nbsp\;</div>\n\n<div style="caret-color: rgb(37\, 78\, 112)\; color: rgb(37\, 78\, 112)\; font-family: &quot\;Century Gothic&quot\;\, Calibri\, Helvetica\, Arial\, sans-serif\; font-size: 14px\; text-size-adjust: auto\;"><span style="font-size: 16px\; color: rgb(13\, 43\, 107)\; font-family: &quot\;Lucida Sans Unicode&quot\;\, &quot\;Lucida Grande&quot\;\, sans-serif\;">Workforce Development topics will include:</span></div>\n\n<div style="caret-color: rgb(37\, 78\, 112)\; color: rgb(37\, 78\, 112)\; font-family: &quot\;Century Gothic&quot\;\, Calibri\, Helvetica\, Arial\, sans-serif\; font-size: 14px\; text-size-adjust: auto\;">&nbsp\;</div>\n\n<ul style="padding-right: 0px\; padding-left: 0px\; margin: 0px 0px 0px 40px\; caret-color: rgb(37\, 78\, 112)\; color: rgb(37\, 78\, 112)\; font-family: &quot\;Century Gothic&quot\;\, Calibri\, Helvetica\, Arial\, sans-serif\; font-size: 14px\; text-size-adjust: auto\;">\n	<li style="padding: 0px\; margin: 0px\; line-height: 1.2\; font-size: 16px\; color: rgb(13\, 43\, 107)\;"><span style="font-family: &quot\;Lucida Sans Unicode&quot\;\, &quot\;Lucida Grande&quot\;\, sans-serif\; font-weight: bold\;">Importance of Workforce Development within a region or community (education\, training and recruitment)</span></li>\n	<li style="padding: 0px\; margin: 0px\; line-height: 1.2\; font-size: 16px\; color: rgb(13\, 43\, 107)\;"><span style="font-family: &quot\;Lucida Sans Unicode&quot\;\, &quot\;Lucida Grande&quot\;\, sans-serif\; font-weight: bold\;">Explanation of this new role: Director of Workforce Development\, serving Virginia&rsquo\;s Gateway Region and the Community College Workforce Alliance</span></li>\n	<li style="padding: 0px\; margin: 0px\; line-height: 1.2\; font-size: 16px\; color: rgb(13\, 43\, 107)\;"><span style="font-family: &quot\;Lucida Sans Unicode&quot\;\, &quot\;Lucida Grande&quot\;\, sans-serif\; font-weight: bold\;">Importance of Industry and Business knowledge and intel</span></li>\n	<li style="padding: 0px\; margin: 0px\; line-height: 1.2\; font-size: 16px\; color: rgb(13\, 43\, 107)\;"><span style="font-family: &quot\;Lucida Sans Unicode&quot\;\, &quot\;Lucida Grande&quot\;\, sans-serif\; font-weight: bold\;">Q&amp\;A/Creative solutions discussion</span></li>\n</ul>\n\n<div style="caret-color: rgb(37\, 78\, 112)\; color: rgb(37\, 78\, 112)\; font-family: &quot\;Century Gothic&quot\;\, Calibri\, Helvetica\, Arial\, sans-serif\; font-size: 14px\; text-size-adjust: auto\;">&nbsp\;</div>\n\n<div style="caret-color: rgb(37\, 78\, 112)\; color: rgb(37\, 78\, 112)\; font-family: &quot\;Century Gothic&quot\;\, Calibri\, Helvetica\, Arial\, sans-serif\; font-size: 14px\; text-size-adjust: auto\;"><span style="font-size: 16px\; color: rgb(13\, 43\, 107)\; font-family: &quot\;Lucida Sans Unicode&quot\;\, &quot\;Lucida Grande&quot\;\, sans-serif\;">Learn about government contracting basics:</span></div>\n\n<div style="caret-color: rgb(37\, 78\, 112)\; color: rgb(37\, 78\, 112)\; font-family: &quot\;Century Gothic&quot\;\, Calibri\, Helvetica\, Arial\, sans-serif\; font-size: 14px\; text-size-adjust: auto\;">&nbsp\;</div>\n\n<ul style="padding-right: 0px\; padding-left: 0px\; margin: 0px 0px 0px 40px\; caret-color: rgb(37\, 78\, 112)\; color: rgb(37\, 78\, 112)\; font-family: &quot\;Century Gothic&quot\;\, Calibri\, Helvetica\, Arial\, sans-serif\; font-size: 14px\; text-size-adjust: auto\;">\n	<li style="padding: 0px\; margin: 0px\; line-height: 1.2\; font-size: 16px\; color: rgb(13\, 43\, 107)\;"><span style="font-family: &quot\;Lucida Sans Unicode&quot\;\, &quot\;Lucida Grande&quot\;\, sans-serif\; font-weight: bold\;">Registering in eVA</span></li>\n	<li style="padding: 0px\; margin: 0px\; line-height: 1.2\; font-size: 16px\; color: rgb(13\, 43\, 107)\;"><span style="font-family: &quot\;Lucida Sans Unicode&quot\;\, &quot\;Lucida Grande&quot\;\, sans-serif\; font-weight: bold\;">Swam certification</span></li>\n	<li style="padding: 0px\; margin: 0px\; line-height: 1.2\; font-size: 16px\; color: rgb(13\, 43\, 107)\;"><span style="font-family: &quot\;Lucida Sans Unicode&quot\;\, &quot\;Lucida Grande&quot\;\, sans-serif\; font-weight: bold\;">Microbusiness certification</span></li>\n	<li style="padding: 0px\; margin: 0px\; line-height: 1.2\; font-size: 16px\; color: rgb(13\, 43\, 107)\;"><span style="font-family: &quot\;Lucida Sans Unicode&quot\;\, &quot\;Lucida Grande&quot\;\, sans-serif\; font-weight: bold\;">Sam registration</span></li>\n</ul>\n
LOCATION:Register at: https://clients.virginiasbdc.org/workshop.aspx?ekey=93400023
UID:e.845.17757
SEQUENCE:3
DTSTAMP:20260420T031610Z
URL:https://business.halifaxchamber.net/events/details/workforce-development-and-government-contracting-basics-17757
END:VEVENT

END:VCALENDAR
