BEGIN:VCALENDAR
VERSION:2.0
PRODID:-//ChamberMaster//Event Calendar 2.0//EN
METHOD:PUBLISH
X-PUBLISHED-TTL:P3D
REFRESH-INTERVAL:P3D
CALSCALE:GREGORIAN
BEGIN:VEVENT
DTSTART;VALUE=DATE:20190516
DTEND;VALUE=DATE:20190517
TRANSP:TRANSPARENT
X-MICROSOFT-CDO-ALLDAYEVENT:TRUE
SUMMARY:Workforce Training Completion Ceremony
DESCRIPTION:SVHEC Workforce Training Completion Ceremony. Join us as we celebrate workforce training completers of: Customized Training\, IT Academy\, Mechatronics\, and Welding
X-ALT-DESC;FMTTYPE=text/html:SVHEC Workforce Training Completion Ceremony. Join us as we celebrate workforce training completers of: Customized Training\, IT Academy\, Mechatronics\, and Welding
LOCATION:Southern Virginia Higher Education Center South Boston\, VA 24592
UID:e.845.12347
SEQUENCE:3
DTSTAMP:20260421T075453Z
URL:https://business.halifaxchamber.net/events/details/workforce-training-completion-ceremony-12347
END:VEVENT

END:VCALENDAR
