BEGIN:VCALENDAR
VERSION:2.0
PRODID:-//ChamberMaster//Event Calendar 2.0//EN
METHOD:PUBLISH
X-PUBLISHED-TTL:P3D
REFRESH-INTERVAL:P3D
CALSCALE:GREGORIAN
BEGIN:VEVENT
DTSTART:20161114T140000Z
DTEND:20161114T160000Z
X-MICROSOFT-CDO-ALLDAYEVENT:FALSE
SUMMARY:Workshop: Preparing for DOL's New Overtime Regulations
DESCRIPTION:The Department of Labor's new overtime rules go into effect on December 1 and represent a significant and potentially costly change to the employment landscape for many businesses.  Is your business ready for this change?  Have you identified which positions will be impacted?  Do you know what options are available to your business to ensure that you are in compliance from day one?  And do you wonder how to explain these changes to your employees who may be impacted?\n\n \n\nOn Monday\, November 14\, attorneys Hunter Byrnes and Steven Gould of Byrnes Gould Law will discuss these issues and more at a morning program hosted by the Chamber in the Southern Virginia Technology Park Conference room. They will focus on key implementation questions that businesses are facing\, including the right   and wrong   ways to explain to employees what these changes mean for their work schedules and paychecks. \n\n \n\nHunter and Steven will also discuss ways that employers can turn this potential challenge into an opportunity to help their businesses operate more efficiently and effectively.
X-ALT-DESC;FMTTYPE=text/html:The Department of Labor&rsquo\;s new overtime rules go into effect on December 1 and represent a significant and potentially costly change to the employment landscape for many businesses.&nbsp\; Is your business ready for this change?&nbsp\; Have you identified which positions will be impacted?&nbsp\; Do you know what options are available to your business to ensure that you are in compliance from day one?&nbsp\; And do you wonder how to explain these changes to your employees who may be impacted?<br />\n&nbsp\;<br />\nOn Monday\, November 14\, attorneys Hunter Byrnes and Steven Gould of Byrnes Gould Law will discuss these issues and more at a morning program hosted by the Chamber in the Southern Virginia Technology Park Conference room. They will focus on key implementation questions that businesses are facing\, including the right &ndash\; and wrong &ndash\; ways to explain to employees what these changes mean for their work schedules and paychecks.&nbsp\;<br />\n&nbsp\;<br />\nHunter and Steven will also discuss ways that employers can turn this potential challenge into an opportunity to help their businesses operate more efficiently and effectively.
LOCATION:Southern Virginia Technology Park Conference Room 1100 Confroy Drive South Boston\, VA 24592
UID:e.845.5741
SEQUENCE:3
DTSTAMP:20260424T193328Z
URL:https://business.halifaxchamber.net/events/details/workshop-preparing-for-dol-s-new-overtime-regulations-5741
END:VEVENT

END:VCALENDAR
