BEGIN:VCALENDAR
VERSION:2.0
PRODID:-//ChamberMaster//Event Calendar 2.0//EN
METHOD:PUBLISH
X-PUBLISHED-TTL:P3D
REFRESH-INTERVAL:P3D
CALSCALE:GREGORIAN
BEGIN:VEVENT
DTSTART:20190101T020000Z
DTEND:20190101T060000Z
X-MICROSOFT-CDO-ALLDAYEVENT:FALSE
SUMMARY:World of Sports Bowling bash New Years Eve
DESCRIPTION:World of Sports Bowling bash with Super Moonlight bowling on New Years Eve! Come have food\, drinks and fun with all of your friends and family - $25 All you can bowl or $100 for an entire lane to save some money if you have a large group! There will be a chance to win over $5000 in prizes!\n\nPrice includes unlimited bowling\, party favors and a complementary glass of champagne for a midnight toast!\n\nDraw for a PRIZE when you make a strike with a colored headpin!\n\nAs always\, we have great food and plenty of Craft Brews on tap at JB's.\n\nLaser Tag\, Go-Karts and Arcade will be available as well so bring the kids.\n\nWe will rock in the new year right!\n\nMonday\, December 31\, 2018 at 9 PM   1 AM
X-ALT-DESC;FMTTYPE=text/html:<span style="color:#1d2129"><span style="font-family:arial\,sans-serif"><span style="font-size:10.5pt">World of Sports Bowling bash with Super Moonlight bowling on New Years Eve! Come have food\, drinks and fun with all of your friends and family - $25 All you can bowl or $100 for an entire lane to save some money if you have a large group! There will be a chance to win over $5000 in prizes!</span></span></span><br />\n<span style="color:#1d2129"><span style="font-family:arial\,sans-serif"><span style="font-size:10.5pt">Price includes unlimited bowling\, party favors and a complementary glass of champagne for a midnight toast!</span></span></span><br />\n<span style="color:#1d2129"><span style="font-family:arial\,sans-serif"><span style="font-size:10.5pt">Draw for a PRIZE when you make a strike with a colored headpin!</span></span></span><br />\n<span style="color:#1d2129"><span style="font-size:10.5pt">As always\, we have great food and plenty of Craft Brews on tap at JB&#39\;s.</span></span><br />\n<span style="color:#1d2129"><span style="font-size:10.5pt">Laser Tag\, Go-Karts and Arcade will be available as well so bring the kids.</span></span><br />\n<span style="color:#1d2129"><span style="font-size:10.5pt">We will rock in the new year right!</span></span><br />\n<span style="background-color:white"><span style="color:#4b4f56"><span style="font-family:arial\,sans-serif"><span style="font-size:10.5pt">Monday\, December 31\, 2018 at 9 PM &ndash\; 1 AM</span></span></span></span>
LOCATION:World of Sports South Boston\, VA
UID:e.845.11445
SEQUENCE:3
DTSTAMP:20260421T140613Z
URL:https://business.halifaxchamber.net/events/details/world-of-sports-bowling-bash-new-years-eve-11445
END:VEVENT

END:VCALENDAR
