BEGIN:VCALENDAR
VERSION:2.0
PRODID:-//ChamberMaster//Event Calendar 2.0//EN
METHOD:PUBLISH
X-PUBLISHED-TTL:P3D
REFRESH-INTERVAL:P3D
CALSCALE:GREGORIAN
BEGIN:VEVENT
DTSTART:20170703T220000Z
DTEND:20170704T010000Z
X-MICROSOFT-CDO-ALLDAYEVENT:FALSE
SUMMARY:WOS Field Party
DESCRIPTION:You are invited to the World of Sports Field Party Monday\, July 3rd.\n\nGate opens at 5:30.\n\nMatt Boswell will be performing from 6:00 - 9:00PM\n\n\n\nThe top four burgers from the Grand Slam Burger Contest will be served and voted on and the winner will be announced.  \n\n\n\nThe bouncy houses will be outside and we will be selling s'mores.\n\n\n\n$10 for Adults\n\ncomes with 4 burgers tastings\n\n\n\n$5 for Children 2-10 \n\ncomes with a Hotdog\n\n\n\nThis is a cash only event.
X-ALT-DESC;FMTTYPE=text/html:You are invited to the World of Sports Field Party Monday\, July 3rd.<br />\nGate opens at 5:30.<br />\nMatt Boswell will be performing from 6:00 - 9:00PM<br />\n<br />\nThe top four burgers from the Grand Slam Burger Contest will be served and voted on and the winner will be announced. &nbsp\;<br />\n<br />\nThe bouncy houses will be outside and we will be selling s&#39\;mores.<br />\n<br />\n$10 for Adults<br />\ncomes with 4 burgers tastings<br />\n<br />\n$5 for Children 2-10&nbsp\;<br />\ncomes with a Hotdog<br />\n<br />\nThis is a cash only event.
LOCATION:World of Sports 2030 Bill Tuck Highway South Boston\, VA
UID:e.845.7007
SEQUENCE:3
DTSTAMP:20260422T194044Z
URL:https://business.halifaxchamber.net/events/details/wos-field-party-7007
END:VEVENT

END:VCALENDAR
