BEGIN:VCALENDAR
VERSION:2.0
PRODID:-//ChamberMaster//Event Calendar 2.0//EN
METHOD:PUBLISH
X-PUBLISHED-TTL:P3D
REFRESH-INTERVAL:P3D
CALSCALE:GREGORIAN
BEGIN:VEVENT
DTSTART:20191207T150000Z
DTEND:20191207T180000Z
X-MICROSOFT-CDO-ALLDAYEVENT:FALSE
SUMMARY:Wreath Workshop
DESCRIPTION:Join the Busy Bean for a festive morning creating your own holiday wreath.\n\nThere will be a demo on how to make a holiday wreath using a variety of fresh foliage\, ribbon\, and seasonal accessories and then you'll get to make your own.
X-ALT-DESC;FMTTYPE=text/html:Join the Busy Bean for a festive morning creating your own holiday wreath.<br />\nThere will be a demo on how to make a holiday wreath using a variety of fresh foliage\, ribbon\, and seasonal accessories and then you&#39\;ll get to make your own.
LOCATION:The Busy Bean 530 Wilborn Ave South Boston\, VA 24592
UID:e.845.14486
SEQUENCE:3
DTSTAMP:20260420T181658Z
URL:https://business.halifaxchamber.net/events/details/wreath-workshop-14486
END:VEVENT

END:VCALENDAR
