BEGIN:VCALENDAR
VERSION:2.0
PRODID:-//ChamberMaster//Event Calendar 2.0//EN
METHOD:PUBLISH
X-PUBLISHED-TTL:P3D
REFRESH-INTERVAL:P3D
CALSCALE:GREGORIAN
BEGIN:VEVENT
DTSTART:20191211T123000Z
DTEND:20191211T183000Z
X-MICROSOFT-CDO-ALLDAYEVENT:FALSE
SUMMARY:Yancey Wholesale Supply Christmas Treats & Customer Appreciation
DESCRIPTION:Join Yancey Wholesale Supply for Christmas treats & customer appreciation.
X-ALT-DESC;FMTTYPE=text/html:Join Yancey Wholesale Supply for Christmas treats &amp\; customer appreciation.&nbsp\;
LOCATION:Yancey Wholesale Supply 908 John Randolph Blvd. South Boston\, VA 24592
UID:e.845.15603
SEQUENCE:3
DTSTAMP:20260420T183443Z
URL:https://business.halifaxchamber.net/events/details/yancey-wholesale-supply-christmas-treats-customer-appreciation-15603
END:VEVENT

END:VCALENDAR
