BEGIN:VCALENDAR
VERSION:2.0
PRODID:-//ChamberMaster//Event Calendar 2.0//EN
METHOD:PUBLISH
X-PUBLISHED-TTL:P3D
REFRESH-INTERVAL:P3D
CALSCALE:GREGORIAN
BEGIN:VEVENT
DTSTART:20190916T213000Z
DTEND:20190916T230000Z
X-MICROSOFT-CDO-ALLDAYEVENT:FALSE
SUMMARY:YES for Halifax Schools Volunteer Recruitment Meeting
DESCRIPTION:p.p1 {margin: 0.0px 0.0px 0.0px 0.0px\; font: 11.0px Arial\; color: #1b1e21}\np.p2 {margin: 0.0px 0.0px 0.0px 0.0px\; font: 9.0px Arial\; color: #403f42}\np.p3 {margin: 0.0px 0.0px 0.0px 0.0px\; font: 11.0px Arial\; color: #1d2129}\np.p4 {margin: 0.0px 0.0px 0.0px 0.0px\; text-align: center\; font: 11.0px Arial\; color: #1d2129}\nspan.s1 {font-kerning: none}\nspan.s2 {font-kerning: none\; color: #1d2129}\nspan.s3 {text-decoration: underline \; font-kerning: none\; color: #385898}\n\nHalifax County residents will vote November 5\, 2019 on one of the most important issues of our lifetime: whether to approve a 1% sales tax increase to support school construction projects in the county. You are cordially invited to a volunteer recruitment meeting for Yes for Halifax Schools will be held Monday\, September 16\, 5:30 pm in the auditorium of Halifax County High School.\n\n \n\nDuring the meeting\, key referendum points and opportunities for involvement will be discussed with volunteers. Volunteers will serve as ambassadors to educate the public on the Halifax County Education Referendum.\n\n \n\nYou may also visit our website www.YesforHalifaxSchools.com to learn more about the referendum and what it means for Halifax County.
X-ALT-DESC;FMTTYPE=text/html:<style type="text/css">p.p1 {margin: 0.0px 0.0px 0.0px 0.0px\; font: 11.0px Arial\; color: #1b1e21}\np.p2 {margin: 0.0px 0.0px 0.0px 0.0px\; font: 9.0px Arial\; color: #403f42}\np.p3 {margin: 0.0px 0.0px 0.0px 0.0px\; font: 11.0px Arial\; color: #1d2129}\np.p4 {margin: 0.0px 0.0px 0.0px 0.0px\; text-align: center\; font: 11.0px Arial\; color: #1d2129}\nspan.s1 {font-kerning: none}\nspan.s2 {font-kerning: none\; color: #1d2129}\nspan.s3 {text-decoration: underline \; font-kerning: none\; color: #385898}\n</style>\n<p class="p1"><span style="font-size:14px\;"><span class="s1">Halifax County residents will vote November 5\, 2019 on one of the most important issues of our lifetime: whether to approve a 1% sales tax increase to support school construction projects in the county. You are cordially invited to a </span><span class="s2">volunteer recruitment meeting for Yes for Halifax Schools will be held Monday\, September 16\, 5:30 pm in the auditorium of Halifax County High School.</span></span></p>\n\n<p class="p2"><span style="font-size:14px\;"><span class="s1">&nbsp\;</span></span></p>\n\n<p class="p3"><span style="font-size:14px\;"><span class="s1">During the meeting\, key referendum points and opportunities for involvement will be discussed with volunteers. Volunteers will serve as ambassadors to educate the public on the Halifax County Education Referendum.</span></span></p>\n\n<p class="p2"><span style="font-size:14px\;"><span class="s1">&nbsp\;</span></span></p>\n\n<p class="p4"><span style="font-size:14px\;"><span class="s1">You may also visit our website <a href="http://www.yesforhalifaxschools.com/"><span class="s3">www.YesforHalifaxSchools.com</span></a> to learn more about the referendum and what it means for Halifax County.</span></span></p>\n
LOCATION:Halifax County High School Auditorium 1 High School Circle South Boston\, VA 24592
UID:e.845.13295
SEQUENCE:3
DTSTAMP:20260421T012706Z
URL:https://business.halifaxchamber.net/events/details/yes-for-halifax-schools-volunteer-recruitment-meeting-13295
END:VEVENT

END:VCALENDAR
