BEGIN:VCALENDAR
VERSION:2.0
PRODID:-//ChamberMaster//Event Calendar 2.0//EN
METHOD:PUBLISH
X-PUBLISHED-TTL:P3D
REFRESH-INTERVAL:P3D
CALSCALE:GREGORIAN
BEGIN:VEVENT
DTSTART:20190529T130000Z
DTEND:20190529T170000Z
X-MICROSOFT-CDO-ALLDAYEVENT:FALSE
SUMMARY:YMCA Active Older Adults Day
DESCRIPTION:Join us at The YMCA on Active Older Adults Day for vendors\, guest speakers\, community resources\, and more!\n\n\n\nFor more information visit member services or call 434-572-8909.
X-ALT-DESC;FMTTYPE=text/html:<font color="#000000">Join us at The YMCA on Active Older Adults Day for vendors\, guest speakers\, community resources\, and more!<br />\n<br />\nFor more information visit member services or call 434-572-8909.</font>
LOCATION:YMCA of South Boston/Halifax County 650 Hamilton Blvd. South Boston\, VA 24592
UID:e.845.13151
SEQUENCE:3
DTSTAMP:20260421T062320Z
URL:https://business.halifaxchamber.net/events/details/ymca-active-older-adults-day-13151
END:VEVENT

END:VCALENDAR
