BEGIN:VCALENDAR
VERSION:2.0
PRODID:-//ChamberMaster//Event Calendar 2.0//EN
METHOD:PUBLISH
X-PUBLISHED-TTL:P3D
REFRESH-INTERVAL:P3D
CALSCALE:GREGORIAN
BEGIN:VEVENT
DTSTART;VALUE=DATE:20181221
DTEND;VALUE=DATE:20181222
TRANSP:TRANSPARENT
X-MICROSOFT-CDO-ALLDAYEVENT:TRUE
SUMMARY:YMCA Christmas Fellowship Lunch
DESCRIPTION:Join us for a festive Pre-Christmas Pot Luck lunch and fellowship social with your favorite Y Friends!\n\nWear your favorite Festive Attire and bring a special dish to share. Enjoy Christmas music and hot beverages as we get into the Christmas spirit!\n\nRemember to sign up at The Welcome Center.
X-ALT-DESC;FMTTYPE=text/html:Join us for a festive Pre-Christmas Pot Luck lunch and fellowship social with your favorite Y Friends!<br />\nWear your favorite Festive Attire and bring a special dish to share. Enjoy Christmas music and hot beverages as we get into the Christmas spirit!<br />\nRemember to sign up at The Welcome Center.
LOCATION:South Boston Halifax County YMCA
UID:e.845.11454
SEQUENCE:3
DTSTAMP:20260421T152836Z
URL:https://business.halifaxchamber.net/events/details/ymca-christmas-fellowship-lunch-11454
END:VEVENT

END:VCALENDAR
