BEGIN:VCALENDAR
VERSION:2.0
PRODID:-//ChamberMaster//Event Calendar 2.0//EN
METHOD:PUBLISH
X-PUBLISHED-TTL:P3D
REFRESH-INTERVAL:P3D
CALSCALE:GREGORIAN
BEGIN:VEVENT
DTSTART:20190427T150000Z
DTEND:20190427T180000Z
X-MICROSOFT-CDO-ALLDAYEVENT:FALSE
SUMMARY:YMCA Healthy Kids Day
DESCRIPTION:Are the kid's in your life already dreaming of summer? When kids are inspired they can do anything. Let's awaken their imagination so they can explore new activities and healthy habits! Activities include an obstacle course\, kids yoga\, kids HIIT workout\, free swim lessons\, dog agility demonstration\, and kids line dance.
X-ALT-DESC;FMTTYPE=text/html:Are the kid&#39\;s in your life already dreaming of summer? When kids are inspired they can do anything. Let&#39\;s awaken their imagination so they can explore new activities and healthy habits! Activities include an obstacle course\, kids yoga\, kids HIIT workout\, free swim lessons\, dog agility demonstration\, and kids line dance.
LOCATION:YMCA South Boston/Halifax County\, 650 Hamilton Blvd\, South Boston\, VA
UID:e.845.12418
SEQUENCE:3
DTSTAMP:20260421T093857Z
URL:https://business.halifaxchamber.net/events/details/ymca-healthy-kids-day-04-27-2019-12418
END:VEVENT

END:VCALENDAR
