BEGIN:VCALENDAR
VERSION:2.0
PRODID:-//ChamberMaster//Event Calendar 2.0//EN
METHOD:PUBLISH
X-PUBLISHED-TTL:P3D
REFRESH-INTERVAL:P3D
CALSCALE:GREGORIAN
BEGIN:VEVENT
DTSTART:20170429T140000Z
DTEND:20170429T160000Z
X-MICROSOFT-CDO-ALLDAYEVENT:FALSE
SUMMARY:YMCA Healthy Kids Day
DESCRIPTION:The Best Summer Ever Starts at Healthy Kids Day !   Obstacle courses and relay races   Ident-A-Kid with South Boston Police Department   Check out our South Boston Fire Station's Fire Engine   Check out Station 15 Emergency Rescue Squad's Ambulance   Eating healthy make your own trailmix   Pre-register for a 30-minute swim lesson at 10AM   Zumba for kids at 11:15AM HEALTHY KIDS DAY SAVINGS   Join the Y and pay no joining fee   No summer camp registration fee
X-ALT-DESC;FMTTYPE=text/html:The Best Summer Ever Starts at Healthy Kids Day&reg\;! &bull\; Obstacle courses and relay races &bull\; Ident-A-Kid with South Boston Police Department &bull\; Check out our South Boston Fire Station&rsquo\;s Fire Engine &bull\; Check out Station 15 Emergency Rescue Squad&rsquo\;s Ambulance &bull\; Eating healthy&ndash\;make your own trailmix &bull\; Pre-register for a 30-minute swim lesson at 10AM &bull\; Zumba for kids at 11:15AM HEALTHY KIDS DAY SAVINGS &bull\; Join the Y and pay no joining fee &bull\; No summer camp registration fee
LOCATION:South Boston/Halifax County YMCA
UID:e.845.5902
SEQUENCE:3
DTSTAMP:20260424T131815Z
URL:https://business.halifaxchamber.net/events/details/ymca-healthy-kids-day-5902
END:VEVENT

END:VCALENDAR
