BEGIN:VCALENDAR
VERSION:2.0
PRODID:-//ChamberMaster//Event Calendar 2.0//EN
METHOD:PUBLISH
X-PUBLISHED-TTL:P3D
REFRESH-INTERVAL:P3D
CALSCALE:GREGORIAN
BEGIN:VEVENT
DTSTART:20190710T141500Z
DTEND:20190710T150000Z
X-MICROSOFT-CDO-ALLDAYEVENT:FALSE
SUMMARY:YMCA Kids Yoga
DESCRIPTION:In this playful yoga class children will learn yoga poses\, breathing\, and relaxation exercises which cultivate a calm mind\, increase strength and flexibility\, improve gross and fine motor skills\, improve concentration\, and help them understand how to identify and manage their feelings. Games\, stories\, and music will be incorporated into this fun\, non-competitive class. Each class ends with a period of relaxation. Children should bring their own yoga mat to class.\n\n\n\nAges 5-15 years old\n\nMembers $25\, Non-Members $35\n\n\n\nDon't wait to register! W/o enough kids we cannot have this wonderful program. Call us today! 434-572-8909
X-ALT-DESC;FMTTYPE=text/html:<span style="color: rgb(28\, 30\, 33)\; font-family: system-ui\, -apple-system\, system-ui\, &quot\;.SFNSText-Regular&quot\;\, sans-serif\; font-size: 14px\;">In this playful yoga class children will learn yoga poses\, breathing\, and relaxation exercises which cultivate a calm mind\, increase strength and flexibility\, improve gross and fine motor skills\, improve concentration\, and help them understand how to identify and manage their feelings. Games\, stories\, and music will be incorporated into this fun\, non-competitive class. Each class ends with a period of relaxation. Children should bring their own yoga mat to class.<br />\n<br />\nAges 5-15 years old<br />\nMembers $25\, Non-Members $35<br />\n<br />\nDon&rsquo\;t wait to register! W/o enough kids we cannot have this wonderful program. Call us today! 434-572-8909</span>
LOCATION:YMCA South Boston 650 Hamilton Blvd South Boston\, VA 24592
UID:e.845.13192
SEQUENCE:3
DTSTAMP:20260421T031300Z
URL:https://business.halifaxchamber.net/events/details/ymca-kids-yoga-07-10-2019-13192
END:VEVENT

END:VCALENDAR
