BEGIN:VCALENDAR
VERSION:2.0
PRODID:-//ChamberMaster//Event Calendar 2.0//EN
METHOD:PUBLISH
X-PUBLISHED-TTL:P3D
REFRESH-INTERVAL:P3D
CALSCALE:GREGORIAN
BEGIN:VEVENT
DTSTART:20200814T103000Z
DTEND:20200814T220000Z
X-MICROSOFT-CDO-ALLDAYEVENT:FALSE
SUMMARY:YMCA Lights\, Camera\, Action Camp
DESCRIPTION:With a focus on the basics of singing and acting\, campers will learn about a variety of music genres\, perform skits\, and express their creativity through music and drama. \n\nAges: 4-12 years old\n\nFor more information contact Kristen Zerbato at kzerbato@ymcashr.org or call (434)572-8909
X-ALT-DESC;FMTTYPE=text/html:<div class="page" title="Page 1">\n<div class="layoutArea">\n<div class="column">\n<div class="page" title="Page 2">\n<div class="section">\n<div class="layoutArea">\n<div class="column">\n<div class="page" title="Page 2">\n<div class="section">\n<div class="layoutArea">\n<div class="column">\n<div class="page" title="Page 2">\n<div class="section">\n<div class="layoutArea">\n<div class="column">\n<p><span style="font-family:arial\;"><span style="font-size: 10pt\;">With a focus on the basics of singing and acting\, campers will learn about a variety of music genres\, perform skits\, and express their creativity through music and drama. </span></span><br />\n<span style="font-family:arial\;"><strong>Ages</strong>: 4-12 years old<br />\nFor more information contact Kristen Zerbato at kzerbato@ymcashr.org or call (434)572-8909</span></p>\n</div>\n</div>\n</div>\n</div>\n</div>\n</div>\n</div>\n</div>\n</div>\n</div>\n</div>\n</div>\n</div>\n</div>\n</div>\n
LOCATION:YMCA of South Boston/Halifax County 650 Hamilton Blvd South Boston\, VA 24592
UID:e.845.17705
SEQUENCE:3
DTSTAMP:20260420T062641Z
URL:https://business.halifaxchamber.net/events/details/ymca-lights-camera-action-camp-08-14-2020-17705
END:VEVENT

END:VCALENDAR
