BEGIN:VCALENDAR
VERSION:2.0
PRODID:-//ChamberMaster//Event Calendar 2.0//EN
METHOD:PUBLISH
X-PUBLISHED-TTL:P3D
REFRESH-INTERVAL:P3D
CALSCALE:GREGORIAN
BEGIN:VEVENT
DTSTART:20170520T220000Z
DTEND:20170521T010000Z
X-MICROSOFT-CDO-ALLDAYEVENT:FALSE
SUMMARY:YMCA Parents Night Out
DESCRIPTION:Parents get excited! The YMCA is offering you a night out.\n\n\n\nFor children ages 5-12 years old. \n\nFlower painting\n\nGames\n\nSpring Walk\n\n\n\nIf your child has a game/puzzle they would like to bring\, please do so.\n\n\n\nRegister at the front desk!
X-ALT-DESC;FMTTYPE=text/html:Parents get excited! The YMCA is offering you a night out.<br />\n<br />\nFor children ages 5-12 years old.&nbsp\;<br />\nFlower painting<br />\nGames<br />\nSpring Walk<br />\n<br />\nIf your child has a game/puzzle they would like to bring\, please do so.<br />\n<br />\nRegister at the front desk!
LOCATION:YMCA of South Boston/Halifax County 650 Hamilton Blvd South Boston\, VA
UID:e.845.5919
SEQUENCE:3
DTSTAMP:20260422T231516Z
URL:https://business.halifaxchamber.net/events/details/ymca-parents-night-out-5919
END:VEVENT

END:VCALENDAR
