BEGIN:VCALENDAR
VERSION:2.0
PRODID:-//ChamberMaster//Event Calendar 2.0//EN
METHOD:PUBLISH
X-PUBLISHED-TTL:P3D
REFRESH-INTERVAL:P3D
CALSCALE:GREGORIAN
BEGIN:VEVENT
DTSTART:20190917T123000Z
DTEND:20190917T160000Z
X-MICROSOFT-CDO-ALLDAYEVENT:FALSE
SUMMARY:YMCA Super Heroes\, Super Health Health Fair/Open House
DESCRIPTION:Come gather and learn new information on health and wellness for ALL ages. We will have healthy recipes\, health screenings and various vendors. Also come try new group exercise classes!
X-ALT-DESC;FMTTYPE=text/html:Come gather and learn new information on health and wellness for ALL ages. We will have healthy recipes\, health screenings and various vendors. Also come try new group exercise classes!
LOCATION:YMCA 650 Hamilton BLVD South Boston\, VA 24592
UID:e.845.13287
SEQUENCE:3
DTSTAMP:20260420T234435Z
URL:https://business.halifaxchamber.net/events/details/ymca-super-heroes-super-health-health-fair-open-house-13287
END:VEVENT

END:VCALENDAR
